BEGIN:VCALENDAR
VERSION:2.0
PRODID:-//Zvočni Sound Spa - ECPv6.15.20//NONSGML v1.0//EN
CALSCALE:GREGORIAN
METHOD:PUBLISH
X-WR-CALNAME:Zvočni Sound Spa
X-ORIGINAL-URL:https://zvocni-spa.si
X-WR-CALDESC:Dogodki za Zvočni Sound Spa
REFRESH-INTERVAL;VALUE=DURATION:PT1H
X-Robots-Tag:noindex
X-PUBLISHED-TTL:PT1H
BEGIN:VTIMEZONE
TZID:Europe/Paris
BEGIN:DAYLIGHT
TZOFFSETFROM:+0100
TZOFFSETTO:+0200
TZNAME:CEST
DTSTART:20240331T010000
END:DAYLIGHT
BEGIN:STANDARD
TZOFFSETFROM:+0200
TZOFFSETTO:+0100
TZNAME:CET
DTSTART:20241027T010000
END:STANDARD
BEGIN:DAYLIGHT
TZOFFSETFROM:+0100
TZOFFSETTO:+0200
TZNAME:CEST
DTSTART:20250330T010000
END:DAYLIGHT
BEGIN:STANDARD
TZOFFSETFROM:+0200
TZOFFSETTO:+0100
TZNAME:CET
DTSTART:20251026T010000
END:STANDARD
BEGIN:DAYLIGHT
TZOFFSETFROM:+0100
TZOFFSETTO:+0200
TZNAME:CEST
DTSTART:20260329T010000
END:DAYLIGHT
BEGIN:STANDARD
TZOFFSETFROM:+0200
TZOFFSETTO:+0100
TZNAME:CET
DTSTART:20261025T010000
END:STANDARD
END:VTIMEZONE
BEGIN:VEVENT
DTSTART;TZID=Europe/Paris:20250815T180000
DTEND;TZID=Europe/Paris:20250815T200000
DTSTAMP:20260425T122737
CREATED:20250731T172955Z
LAST-MODIFIED:20250807T094353Z
UID:8992-1755280800-1755288000@zvocni-spa.si
SUMMARY:Posebni dogodek na Obali! ZVOČNA KOPEL: IZVORNE KODE OCEANA
DESCRIPTION:Posebni dogodek na Obali!\nZVOČNA KOPEL: IZVORNE KODE OCEANA \nVabilo na zvočno kopel z gongi in kristali\nOb podpori morskih bitij \nVabljeni v edinstven sveti prostor nad morjem FORMA VIVA nad Lucijo\, kjer bomo skozi zvok stopali v stik z izvorom – z modrostjo oceana\, z njegovo zavestjo in neskončno pomirjujočo vibracijo. Zvok kot koda. Oceanska modrost kot aktivacija. \nV krogu ob zvokih gongov\, kristalnih posod in intuitivnega vokala bomo:\n• odpirali polje stika z izvirno zavestjo oceana\n• poslušali šepet vodnih bitij in modrosti globin\n• vstopili v zvočno polje srca\, kjer se stikamo z večdimenzionalno resničnostjo\n• povabili vse elemente – vodo\, zrak\, zemljo\, ogenj – naj nas podprejo\n• se spomnili\, kdo v resnici smo \nKaj te čaka: \n– Zvočna kopel z gongi\, kristalnimi instrumenti in vokalom \n– Naravni prostor visoke vibracije\, blizu morja \n– Skupinsko polje za notranji vpogled\, zdravljenje in prisotnost \n– Intuitivna popotovanja skozi zvok in svetlobne kode oceana \n  \nKJE: Forma Viva nad Lucijo (točna lokacija ob prijavi) \n V primeru dežja: bližnja dvorana \nKDAJ: Petek\, 15.august\, 18 – 20h \nVODITA: Boštjan Sanič in Tjaša Cepuš \nS seboj prinesi: \n– podlogo za ležanje\, odejo\, blazino\n– steklenico vode\n– udobna oblačila\n– odprto srce in pripravljenost na preobrazbo\n  \nPrijave so obvezne: tjasa.cepus@gmail.com\, sanic.bostjan@zvok-srca.si\,\nPrispevek: 40Eur \nZvok kot most. Ocean kot izvor. Ti kot ključno bitje svetlobe. \nVabljeni v sveti krog pod zvezdami. \nZ ljubeznijo\,\nTjaša\, Boštjan \n  \n\n\n  \n\n\n\n\n\n\n  \n    \n  \n  \n    \n  \n  \n    \n  \n  \n    \n  \n\n\n\n  S potrditvijo soglašam z uporabo mojih osebnih podatkov v skladu s politiko zasebnosti.\n\n\n\n  \nΔ
URL:https://zvocni-spa.si/dogodek/izvorne-kode-oceana/
LOCATION:Forma Viva nad Lucijo
CATEGORIES:Zvočne kopeli
ATTACH;FMTTYPE=image/jpeg:https://zvocni-spa.si/wp-content/uploads/2025/07/522642519_1163632422450627_5215498693065518268_n.jpg
END:VEVENT
BEGIN:VEVENT
DTSTART;TZID=Europe/Paris:20250810T183000
DTEND;TZID=Europe/Paris:20250810T200000
DTSTAMP:20260425T122737
CREATED:20250731T170516Z
LAST-MODIFIED:20250731T172318Z
UID:8975-1754850600-1754856000@zvocni-spa.si
SUMMARY:ZVOČNI SPA Aktivacija Zavesti Obilja
DESCRIPTION:  \n \nZVOČNI SPA Aktivacija Zavesti Obilja – Tjaša Cepuš \nKDAJ? nedelja\, 10.8. ob 18.30 – 20.00\nKJE? Dvoran’ca Žalec \nAKTIVACIJA ZAVESTI OBILJA\nKristalne posode • Kristalna lira • Zvok glasu • Sprostitev • Obilje\nPrisrčno vabljeni na edinstveno zvočno popotovanje\, kjer bomo skupaj odprli vrata notranjemu miru in obilju. S pomočjo zvoka kristalnih posod\, kristalne lire in vokalne vibracije bomo aktivirali pretočnost\, dvignili zavest in sprostili blokade\, ki nas ločujejo od našega naravnega stanja obilja. \n V zvočnem objemu bomo:\n* Prebudili notranji mir in jasnost\n* Aktivirali energijo obilja\, ki živi v nas\n* Sprostili telo\, um in srce\n* Povezali se s svojo izvorno frekvenco\nZvok nosi inteligenco. Vsaka vibracija\, ki jo začutimo\, odpira vrata k sebi – k spominu\, da smo že zdaj popolni\, celoviti in vredni vsega dobrega. Ko to notranje obilje zasije\, se začne zrcaliti tudi navzven. \nSrčno dobrodošli! \nKaj je zvok?\nZvok je eno najmočnejših orodij\, ki človeka sprosti in uskladi z naravnimi ritmi Življenja. Bolj\, ko je človek v sozvočju z naravo\, globlje doživlja Življenje in ko se čisto preda\, postane Življenje Samo. Kristali predstavljajo čistost in visoko zavest matere Zemlje\, njihove frekvence nas podpirajo pri transformaciji\, nas negujejo in višajo našo zavest. Dovoljujejo nam\, da naredimo korak naprej v našem zavedanju samega sebe in prinašamo nove informacije na Zemljo. \nUčinki\, ki lahko nastopijo po zvočni kopeli\n• prenehanje bolečin na fizičnem telesu (glavoboli\, bolečine po poškodbah\, bolečine\nv križu\, bolečine vratu in ramenskega obroča\, hrbtenice…)\n• izboljšani notranji procesi fizičnega telesa (boljša cirkulacija telesnih tekočin…)\n• notranji mir\n• pomladitev telesa\n• sprostitev čustev in olajšanje (jeza\, žalost\, depresija\, strah…)\n• boljša koncentracija in fokus\n• sprostitev svojih misli (postanemo bolj prisotni v tu in zdaj ter opazovalec svojih\nmisli)\n• izboljšana komunikacija\n• odpiranje intuiciji\, senzitivnosti\, jasno-vidnosti/-slišnosti/- čutnosti\n• globoko doživetje (spoznavanje duše in prepoznavanje svojih potencialov\,\ndoživljanje globoke ljubezni in radosti) \nO izvajalki: \nTJAŠA CEPUŠ\, univ.dipl.ekon.\, zvočna alkimistka\, aurasound terapevtka\, masažni terapevt in spinal flow praktikantka. Z glasbo se ukvarja že vse življenje\, z zdravilnim zvokom gongov in ostalih instrumentov pa že 18 let. Izvedla je že nekaj individualnih izobraževanj za zvočne terapevte – praktike. Učila se je od priznanih zvočnih mojstrov\, vrhunskih glasbenikov\, s katerimi je izvajala različne koncerte in predstave. Zvočno so jo podprla tudi morska bitja – kiti\, delfini – s katerimi je plavala na Havajih in Mo’orei in jih občudovala v Mehiki in Indoneziji. Njen doprinos je dati ljudem globoko zaznavo vibracij\, ki kreirajo življenje v svobodni in ozaveščeni realnosti. \nVeč na: www.zvocni-spa.si. \nPRIJAVE DO 9.8. na tjasa.cepus@gmail.com . \nPRISPEVEK: 30EUR \nPlačilo preko TRR ob prijavi. \n\n\n  \n\n\n\n\n\n\n  \n    \n  \n  \n    \n  \n  \n    \n  \n  \n    \n  \n\n\n\n  S potrditvijo soglašam z uporabo mojih osebnih podatkov v skladu s politiko zasebnosti.\n\n\n\n  \nΔ
URL:https://zvocni-spa.si/dogodek/zvocni-spa-aktivacija-zavesti-obilja/
LOCATION:Dvoran’ca Žalec
CATEGORIES:Zvočne kopeli
ATTACH;FMTTYPE=image/jpeg:https://zvocni-spa.si/wp-content/uploads/2025/07/524045341_1164139639066572_8745789678021685647_n-1.jpg
END:VEVENT
BEGIN:VEVENT
DTSTART;TZID=Europe/Paris:20250731T180000
DTEND;TZID=Europe/Paris:20250731T193000
DTSTAMP:20260425T122737
CREATED:20250730T123153Z
LAST-MODIFIED:20250730T130344Z
UID:8964-1753984800-1753990200@zvocni-spa.si
SUMMARY:ZVOČNI SPA Globoka sprostitev Zdraviliški park Terme Dobrna - Tjaša Cepuš
DESCRIPTION:ZVOČNI SPA Globoka sprostitev Zdraviliški park Terme Dobrna\nTjaša Cepuš \nKDAJ? četrtek\, 31.7. ob 18.00 – 19.30\nKJE? Zdraviliški park Terme Dobrna \nGLOBOKA SPROSTITEV\nPridružite se nam na edinstveni zvočni kopeli s kristalnimi instrumenti\, ki vas bo popeljala v globoko sprostitev telesa in uma. V čudovitem ambientu zdraviliškega parka Term Dobrna bomo skozi harmonične vibracije vstopili v stanje tišine\, miru in notranjega ravnovesja. \nKaj lahko pričakujete:\n*pomirjujoče vibracije kristalnih posod in zvočil\n*sprostitev napetosti in zmanjšanje stresa\n*obnovo notranje energije in ravnovesja\n*varno in podporno okolje v objemu narave \nDogodek je primeren za vsakogar – tudi za tiste\, ki se z meditacijo srečujejo prvič.\nSrčno dobrodošli! \nKaj je zvok?\nZvok je eno najmočnejših orodij\, ki človeka sprosti in uskladi z naravnimi ritmi Življenja. Bolj\, ko je človek v sozvočju z naravo\, globlje doživlja Življenje in ko se čisto preda\, postane Življenje Samo. Kristali predstavljajo čistost in visoko zavest matere Zemlje\, njihove frekvence nas podpirajo pri transformaciji\, nas negujejo in višajo našo zavest. Dovoljujejo nam\, da naredimo korak naprej v našem zavedanju samega sebe in prinašamo nove informacije na Zemljo.\nUčinki\, ki lahko nastopijo po zvočni kopeli\n• prenehanje bolečin na fizičnem telesu (glavoboli\, bolečine po poškodbah\, bolečine\nv križu\, bolečine vratu in ramenskega obroča\, hrbtenice…)\n• izboljšani notranji procesi fizičnega telesa (boljša cirkulacija telesnih tekočin…)\n• notranji mir\n• pomladitev telesa\n• sprostitev čustev in olajšanje (jeza\, žalost\, depresija\, strah…)\n• boljša koncentracija in fokus\n• sprostitev svojih misli (postanemo bolj prisotni v tu in zdaj ter opazovalec svojih\nmisli)\n• izboljšana komunikacija\n• odpiranje intuiciji\, senzitivnosti\, jasno-vidnosti/-slišnosti/- čutnosti\n• globoko doživetje (spoznavanje duše in prepoznavanje svojih potencialov\,\ndoživljanje globoke ljubezni in radosti ) \nO izvajalki: \nTJAŠA CEPUŠ\, univ.dipl.ekon.\, zvočna alkimistka\, aurasound terapevtka\, masažni terapevt in spinal flow praktikantka. Z glasbo se ukvarja že vse življenje\, z zdravilnim zvokom gongov in ostalih instrumentov pa že 18 let. Izvedla je že nekaj individualnih izobraževanj za zvočne terapevte – praktike. Učila se je od priznanih zvočnih mojstrov\, vrhunskih glasbenikov\, s katerimi je izvajala različne koncerte in predstave. Zvočno so jo podprla tudi morska bitja – kiti\, delfini – s katerimi je plavala na Havajih in Mo’orei in jih občudovala v Mehiki in Indoneziji. Njen doprinos je dati ljudem globoko zaznavo vibracij\, ki kreirajo življenje v svobodni in ozaveščeni realnosti. \nVeč na: www.zvocni-spa.si. \nPRIJAVE DO 30.7. na tjasa.cepus@gmail.com . \nPRISPEVEK: \n– 30EUR (prvih pet prijavljenih ima 5Eur popusta)\, za hotelske goste je 20Eur\nPlačilo preko TRR ob prijavi. \n  \n\n\n  \n\n\n\n\n\n\n  \n    \n  \n  \n    \n  \n  \n    \n  \n  \n    \n  \n\n\n\n  S potrditvijo soglašam z uporabo mojih osebnih podatkov v skladu s politiko zasebnosti.\n\n\n\n  \nΔ
URL:https://zvocni-spa.si/dogodek/zvocni-spa-globoka-sprostitev-zdraviliski-park-terme-dobrna-tjasa-cepus/
LOCATION:Zdraviliški park Terme Dobrna
CATEGORIES:Zvočne kopeli
ATTACH;FMTTYPE=image/jpeg:https://zvocni-spa.si/wp-content/uploads/2025/07/522606346_1162561895891013_37758683770371280_n-1.jpg
END:VEVENT
END:VCALENDAR