BEGIN:VCALENDAR
VERSION:2.0
PRODID:-//Zvočni Sound Spa - ECPv6.15.20//NONSGML v1.0//EN
CALSCALE:GREGORIAN
METHOD:PUBLISH
X-WR-CALNAME:Zvočni Sound Spa
X-ORIGINAL-URL:https://zvocni-spa.si
X-WR-CALDESC:Dogodki za Zvočni Sound Spa
REFRESH-INTERVAL;VALUE=DURATION:PT1H
X-Robots-Tag:noindex
X-PUBLISHED-TTL:PT1H
BEGIN:VTIMEZONE
TZID:Europe/Paris
BEGIN:DAYLIGHT
TZOFFSETFROM:+0100
TZOFFSETTO:+0200
TZNAME:CEST
DTSTART:20240331T010000
END:DAYLIGHT
BEGIN:STANDARD
TZOFFSETFROM:+0200
TZOFFSETTO:+0100
TZNAME:CET
DTSTART:20241027T010000
END:STANDARD
BEGIN:DAYLIGHT
TZOFFSETFROM:+0100
TZOFFSETTO:+0200
TZNAME:CEST
DTSTART:20250330T010000
END:DAYLIGHT
BEGIN:STANDARD
TZOFFSETFROM:+0200
TZOFFSETTO:+0100
TZNAME:CET
DTSTART:20251026T010000
END:STANDARD
BEGIN:DAYLIGHT
TZOFFSETFROM:+0100
TZOFFSETTO:+0200
TZNAME:CEST
DTSTART:20260329T010000
END:DAYLIGHT
BEGIN:STANDARD
TZOFFSETFROM:+0200
TZOFFSETTO:+0100
TZNAME:CET
DTSTART:20261025T010000
END:STANDARD
BEGIN:DAYLIGHT
TZOFFSETFROM:+0100
TZOFFSETTO:+0200
TZNAME:CEST
DTSTART:20270328T010000
END:DAYLIGHT
BEGIN:STANDARD
TZOFFSETFROM:+0200
TZOFFSETTO:+0100
TZNAME:CET
DTSTART:20271031T010000
END:STANDARD
END:VTIMEZONE
BEGIN:VEVENT
DTSTART;TZID=Europe/Paris:20260223T190000
DTEND;TZID=Europe/Paris:20260301T194000
DTSTAMP:20260424T174348
CREATED:20260118T133341Z
LAST-MODIFIED:20260118T133341Z
UID:9227-1771873200-1772394000@zvocni-spa.si
SUMMARY:7-dnevni INDIVIDUALNI online ZVOČNI RESET
DESCRIPTION:  \n7-dnevni INDIVIDUALNI ONLINE ZVOČNI RESET\nNežen zvočni prostor za umiritev\, sprostitev in ponovni stik s sabo\nVabljeni na 7-dnevni online zvočni reset. Gre za povabilo k upočasnitvi\, razbremenitvi in regeneraciji skozi zvok. Namenjen je vsem\, ki čutijo\, da potrebujejo nežno podporo\, prostor za umiritev živčnega sistema in čas zase\, brez dodatnih obveznosti ali napora. \nV enem tednu se bomo srečali trikrat v živo preko Zoom-a\, v manjši\, varni skupini. Vsako srečanje bo kratko\, a globoko podporno. Skozi pogovor in zvočno kopel s kristalnimi posodami bomo telesu omogočili\, da se sprosti\, umu pa\, da se umiri. \nZvok deluje kot nežen opomnik telesu\, da je varno popustiti napetosti in se vrniti v naravni ritem. Sedemdnevni okvir omogoča\, da se učinki ne zgodijo le za trenutek\, temveč se postopoma sidrajo v vsakdan. Mnogi udeleženci v tem času opazijo več notranjega miru\, boljši spanec\, mehkejše dihanje in več prisotnosti. \nDogodek poteka online\, kar omogoča\, da se mu pridružiš iz udobja svojega doma- Še posebej primeren je za zimski čas\, dneve\, ko je zunaj mraz ali ko si želiš ostati v svojem prostoru. \nTa 7-dnevni zvočni reset je namenjen temu\, da si dovolimo biti podprti\, slišani skozi zvok\, da resetiramo svoje misli in čustva in se ponovno povežemo z virom. \nTrajanje dogodka: 7 dni \nKDAJ? 23.2. – 1.3. \nSrečanja: 3 živa Zoom srečanja (tor 19-19.40\, čet 19-19.40 in ned 10-10.40)\nTrajanje posameznega srečanja: približno 35 minut\nPrispevek: 55 €\nŠtevilo mest je omejeno \nČe te pokliče\, si toplo vabljen/a\, da se pridružiš zvočnemu krogu. \n  \n*** \n7-Day INDIVIDUAL Online SOUND RESET\n\nA gentle sound space for relaxation\, release and reconnection\n\nYou are invited to the 7-Day Online Sound Reset. It is an invitation to slow down\, release tension and regenerate through sound. It is designed for anyone who feels the need for gentle support\, a space to calm the nervous system and time for themselves\, without additional obligations or effort. \nDuring one week\, we will meet 3 times live via Zoom in a small\, safe group. Each session will be short but deeply supportive. Through conversation and a sound journey with crystal singing bowls\, the body is allowed to relax and the mind to settle. \nSound works as a gentle reminder to the body that it is safe to release tension and return to its natural rhythm. The seven-day format allows the effects not to occur only for a moment\, but to gradually anchor into everyday life. Many participants notice increased inner calm\, better sleep\, softer breathing and more presence during this time. \nThe event takes place online\, allowing you to join from the comfort of your own home. It is especially suitable for the winter season\, days when it is cold outside\, or when you wish to remain in your own space. \nThis 7-Day Sound Reset is intended to allow us to be supported\, heard through sound\, to reset our thoughts and emotions\, and to reconnect with the source. \nEvent duration: 7 days\nWHEN? 23.2. – 1.3.\nSessions: 3 live Zoom sessions (tuesday 7pm-7.40pm\, thursday 7pm.-7.40pm\, sunday 10am – 10.40am)\nSession length: approximately 35 minutes\nEnergy exchange: 55 €\nLimited number of participants \nIf you feel called\, you are warmly welcome to join the sound circle. \nVeč na: www.zvocni-spa.si. \nPlačilo preko TRR ob prijavi.\nPayment on business account at time of registration. \n\n\n  \n\n\n\n\n\n\n  \n    \n  \n  \n    \n  \n  \n    \n  \n  \n    \n  \n\n\n\n  S potrditvijo soglašam z uporabo mojih osebnih podatkov v skladu s politiko zasebnosti.\n\n\n\n  \nΔ
URL:https://zvocni-spa.si/dogodek/7-dnevni-individualni-online-zvocni-reset-2/
CATEGORIES:Online zvočni reset,spinal flow,Zvočne kopeli
ATTACH;FMTTYPE=image/png:https://zvocni-spa.si/wp-content/uploads/2026/01/ZVOCNI-SPA-Zdnevnionlinezvocnireset.png
ORGANIZER;CN="Tja%C5%A1a Cepu%C5%A1":MAILTO:info@zvocni-spa.si
END:VEVENT
BEGIN:VEVENT
DTSTART;TZID=Europe/Paris:20260126T190000
DTEND;TZID=Europe/Paris:20260201T110000
DTSTAMP:20260424T174348
CREATED:20260118T132253Z
LAST-MODIFIED:20260118T133058Z
UID:9219-1769454000-1769943600@zvocni-spa.si
SUMMARY:7-dnevni INDIVIDUALNI online ZVOČNI RESET
DESCRIPTION:  \n7-dnevni INDIVIDUALNI ONLINE ZVOČNI RESET\nNežen zvočni prostor za umiritev\, sprostitev in ponovni stik s sabo\nVabljeni na 7-dnevni online zvočni reset. Gre za povabilo k upočasnitvi\, razbremenitvi in regeneraciji skozi zvok. Namenjen je vsem\, ki čutijo\, da potrebujejo nežno podporo\, prostor za umiritev živčnega sistema in čas zase\, brez dodatnih obveznosti ali napora. \nV enem tednu se bomo srečali trikrat v živo preko Zoom-a\, v manjši\, varni skupini. Vsako srečanje bo kratko\, a globoko podporno. Skozi pogovor in zvočno kopel s kristalnimi posodami bomo telesu omogočili\, da se sprosti\, umu pa\, da se umiri. \nZvok deluje kot nežen opomnik telesu\, da je varno popustiti napetosti in se vrniti v naravni ritem. Sedemdnevni okvir omogoča\, da se učinki ne zgodijo le za trenutek\, temveč se postopoma sidrajo v vsakdan. Mnogi udeleženci v tem času opazijo več notranjega miru\, boljši spanec\, mehkejše dihanje in več prisotnosti. \nDogodek poteka online\, kar omogoča\, da se mu pridružiš iz udobja svojega doma- Še posebej primeren je za zimski čas\, dneve\, ko je zunaj mraz ali ko si želiš ostati v svojem prostoru. \nTa 7-dnevni zvočni reset je namenjen temu\, da si dovolimo biti podprti\, slišani skozi zvok\, da resetiramo svoje misli in čustva in se ponovno povežemo z virom. \nTrajanje dogodka: 7 dni\nSrečanja: 3 živa Zoom srečanja (tor 19-19.40\, čet 19-19.40 in ned 10-10.40)\n26. JANUAR – 1. FEBRUAR\nTrajanje posameznega srečanja: približno 35 minut\nPrispevek: 55 €\nŠtevilo mest je omejeno \nČe te pokliče\, si toplo vabljen/a\, da se pridružiš zvočnemu krogu. \n  \n*** \n7-Day INDIVIDUAL Online SOUND RESET\n\nA gentle sound space for relaxation\, release and reconnection\n\nYou are invited to the 7-Day Online Sound Reset. It is an invitation to slow down\, release tension and regenerate through sound. It is designed for anyone who feels the need for gentle support\, a space to calm the nervous system and time for themselves\, without additional obligations or effort. \nDuring one week\, we will meet 3 times live via Zoom in a small\, safe group. Each session will be short but deeply supportive. Through conversation and a sound journey with crystal singing bowls\, the body is allowed to relax and the mind to settle. \nSound works as a gentle reminder to the body that it is safe to release tension and return to its natural rhythm. The seven-day format allows the effects not to occur only for a moment\, but to gradually anchor into everyday life. Many participants notice increased inner calm\, better sleep\, softer breathing and more presence during this time. \nThe event takes place online\, allowing you to join from the comfort of your own home. It is especially suitable for the winter season\, days when it is cold outside\, or when you wish to remain in your own space. \nThis 7-Day Sound Reset is intended to allow us to be supported\, heard through sound\, to reset our thoughts and emotions\, and to reconnect with the source. \nEvent duration: 7 days\nSessions: 3 live Zoom sessions (tuesday 7pm-7.40pm\, thursday 7pm.-7.40pm\, sunday 10am-10.40am) \n26th of JANUARY – 1st of FEBRUARY\napproximately 35 minutes each time\nEnergy exchange: 55 €\nLimited number of participants \nIf you feel called\, you are warmly welcome to join the sound circle. \nVeč na: www.zvocni-spa.si. \nPlačilo preko TRR ob prijavi.\nPayment on business account at time of registration. \n\n\n  \n\n\n\n\n\n\n  \n    \n  \n  \n    \n  \n  \n    \n  \n  \n    \n  \n\n\n\n  S potrditvijo soglašam z uporabo mojih osebnih podatkov v skladu s politiko zasebnosti.\n\n\n\n  \nΔ
URL:https://zvocni-spa.si/dogodek/7dnevni-individualni-zvocni-reset-online/
CATEGORIES:Online zvočni reset,spinal flow,Zvočne kopeli
ATTACH;FMTTYPE=image/png:https://zvocni-spa.si/wp-content/uploads/2026/01/ZVOCNI-SPA-Zdnevnionlinezvocnireset.png
ORGANIZER;CN="Tja%C5%A1a Cepu%C5%A1":MAILTO:info@zvocni-spa.si
END:VEVENT
BEGIN:VEVENT
DTSTART;TZID=Europe/Paris:20260118T090000
DTEND;TZID=Europe/Paris:20260308T090000
DTSTAMP:20260424T174348
CREATED:20260118T131112Z
LAST-MODIFIED:20260206T123707Z
UID:9216-1768726800-1772960400@zvocni-spa.si
SUMMARY:INDIVIDUALNI ZVOČNI RESET online
DESCRIPTION:  \nINDIVIDUALNI ONLINE ZVOČNI RESET\nNežen prostor pogovora in zvoka za umiritev in ponovni stik s sabo\nIndividualni online zvočni reset je osebno\, umirjeno srečanje\, namenjeno razbremenitvi\, sprostitvi in ponovni vzpostavitvi notranjega ravnovesja. Ustvarjen je za trenutke\, ko čutiš\, da potrebuješ čas zase\, varen prostor za pogovor in podporo zvoka\, kjerkoli si. \nSrečanje poteka individualno preko Zoom-a in je prilagojeno tvojemu trenutnemu počutju. Začne se z nežnim pogovorom\, kjer imaš prostor\, da se izraziš\, umiriš in poveš\, kaj trenutno potrebuješ. Temu sledi zvočni del s kristalnimi posodami\, ki s svojo vibracijo podpre sproščanje napetosti\, umirjanje živčnega sistema in globlji stik s telesom. \nZvok deluje kot nežna podpora\, ki telesu omogoča\, da se umiri. Ker gre za individualno srečanje\, imaš vso podporo zase. \nOnline oblika omogoča\, da se srečanja udeležiš iz udobja svojega doma. Še posebej primerna je za dni\, ko je zunaj mraz\, sneži\, si v časovni stiski ali si preprosto želiš ostati v svojem prostoru. \nIndividualni online zvočni reset je namenjen temu\, da si dovoliš biti slišan/a\, podprt/a\, da se uskladiš s svojimi dušnimi željami in sprostiš čustvene napetosti.. \nTrajanje srečanja: približno 45 minut\nPrispevek: 55eur \n*** \nINDIVIDUAL ONLINE SOUND RESET\nA gentle space of conversation and sound for relaxation and reconnection\nThe Individual Online Sound Reset is a personal\, calming session created to support relaxation\, release and the restoration of inner balance. It is designed for moments when you feel the need for time just for yourself\, a safe space for conversation and the support of sound — wherever you are. \nThe session takes place one-on-one via Zoom and is gently adapted to your current state and needs. It begins with a soft\, supportive conversation\, allowing you to arrive\, express yourself and share what you are currently experiencing. This is followed by a sound journey with crystal singing bowls\, whose vibrations support the release of tension\, calm the nervous system and invite a deeper connection with the body. \nSound acts as a gentle support\, allowing the body to soften and settle.  \nAs this is an individual session\, the space is fully dedicated to you\, offering presence\, care and attunement throughout the process. \nThe online format allows you to receive this experience from the comfort of your own home. It is especially suitable for colder days\, snowy weather\, busy schedules or moments when you simply wish to remain in your own familiar space. \nThe Individual Online Sound Reset is an invitation to allow yourself to be heard and supported\, to reconnect with your inner longings and to gently release emotional tension. \nSession duration: approximately 45 minutes\nEnergy exchange: 55 € \nVeč na: www.zvocni-spa.si. \nPlačilo preko TRR ob prijavi.\nPayment on business account at time of registration. \n \n\n\n  \n\n\n\n\n\n\n  \n    \n  \n  \n    \n  \n  \n    \n  \n  \n    \n  \n\n\n\n  S potrditvijo soglašam z uporabo mojih osebnih podatkov v skladu s politiko zasebnosti.\n\n\n\n  \nΔ
URL:https://zvocni-spa.si/dogodek/individualnizvocnireset/
CATEGORIES:Online zvočni reset,spinal flow,Zvočne kopeli
ATTACH;FMTTYPE=image/png:https://zvocni-spa.si/wp-content/uploads/2026/01/ONLINEzvocnireset.png
ORGANIZER;CN="Tja%C5%A1a Cepu%C5%A1":MAILTO:info@zvocni-spa.si
END:VEVENT
BEGIN:VEVENT
DTSTART;TZID=Europe/Paris:20260118T090000
DTEND;TZID=Europe/Paris:20260308T090000
DTSTAMP:20260424T174348
CREATED:20260118T125420Z
LAST-MODIFIED:20260206T123406Z
UID:9209-1768726800-1772960400@zvocni-spa.si
SUMMARY:DARILNI BONI - bliža se Valentinovo\, rojstni dan\, obletnica...
DESCRIPTION:  \nDARILNI BONI za Valentinovo\, rojstni dan\, obletnico…\nDarilo\, ki resnično dotakne\nPodari nežen trenutek skrbi zase ali svojim bližnjim. Naši darilni boni ponujajo različne oblike sprostitve\, regeneracije in zvočne podpore\, ki pomagajo telesu\, umu in energiji\, da se ponovno uskladijo. \n\nIndividualni online zvočni reset – idealno za vse\, ki so trenutno pod stresom ali si želijo nežno podporo doma. Online obliko je mogoče doživeti iz udobja lastnega prostora\, zato je še posebej primerna za zimski čas\, časovno stiske ali trenutke\, ko želimo ostati v varnem in domačem okolju.\nSpinal Flow tretma – sprostitev napetosti in »blokad« v živčnem sistemu ter obnova pretoka energije skozi telo. Hrbtenjača je glavni komunikacijski kanal telesa\, zato lahko morebitne »blokade« vplivajo na fizično\, čustveno in energetsko ravnovesje. Spinal Flow pomaga\, da se telo ponovno uskladi\, sprosti in obnovi naravni pretok energije.\nHavajska in klasično-intuitivna masaža – globoka sprostitev telesa in uma\, ki omogoča umiritev in regeneracijo po napetih dneh.\nIndividualna zvočna kopel – vsečutni tretma\, ki globoko sprosti vaše telo in prispeva k njegovemu zdravju. Če si želite najti notranji mir\, sprostitev in ponovno moč\, ste prišli na pravo mesto.\nZvočna masaža – vrhunska masaža s polaganjem in igranjem tibetanskih posod na telo\, ki podpira sproščanje napetosti\, umirja živčni sistem in pomaga telesu do regeneracije.\nVrednostni bon – za vse zgornje storitve. Podari zate najbolj primerno vrednost\, darilo si izbere oseba sama.\n\nDarilni boni so čudovito darilo za Valentinovo\, rojstne dneve ali posebno priložnost\, lahko pa jih podariš tudi nekomu\, ki potrebuje trenutek umiritve\, regeneracije ali nežne podpore. Z darilnim bonom podariš pozornost\, mir in občutek\, da je obdarjen/a slišan/a in podprt/a. \n  \nIzberi darilni bon zdaj in podari nežen dotik sprostitve\, zvočne podpore in regeneracije\, ki ostane v telesu in duši. \nVeč na: www.zvocni-spa.si. \nPlačilo preko TRR ob prijavi.\nDarilni bon prejmete tokrat na e-mail.  \n \n  \n\n\n  \n\n\n\n\n\n\n  \n    \n  \n  \n    \n  \n  \n    \n  \n  \n    \n  \n\n\n\n  S potrditvijo soglašam z uporabo mojih osebnih podatkov v skladu s politiko zasebnosti.\n\n\n\n  \nΔ
URL:https://zvocni-spa.si/dogodek/darilniboni/
CATEGORIES:Online zvočni reset,spinal flow,Zvočne kopeli
ATTACH;FMTTYPE=image/png:https://zvocni-spa.si/wp-content/uploads/2026/01/ZVOCNI-SPA-darilni-bon.png
ORGANIZER;CN="Tja%C5%A1a Cepu%C5%A1":MAILTO:info@zvocni-spa.si
END:VEVENT
BEGIN:VEVENT
DTSTART;TZID=Europe/Paris:20251221T183000
DTEND;TZID=Europe/Paris:20251221T200000
DTSTAMP:20260424T174348
CREATED:20251118T160909Z
LAST-MODIFIED:20251201T201707Z
UID:9185-1766341800-1766347200@zvocni-spa.si
SUMMARY:Kristalni Zvočni SPA ZIMSKI SOLSTICIJ Žalec
DESCRIPTION:  \n \nSOLSTICIJSKI Kristalni ZVOČNI SPA  Žalec\nKDAJ? nedelja\, 21.12. ob 18.30 – 20.00\nKJE? Dvoran’ca Žalec\nKRISTALNA ZVOČNA KOPELKristalne posode • Kristalna lira • Zvok glasu • Sprostitev • Vaš namen\n\nSolsticij. Ponovno smo v njem… Da KONČAMO staro leto in odpremo NOVO. To je dan najdaljše noči\, največje globine in časa\, ko smo kot v hibernaciji z našimi mislimi… Ko se vgnezdimo v naše polje polne zavesti… in SMO…\nPortal\, ki prinaša odmik\, premik in novo akcijo.\nPraznovanje solsticija je bilo že v staroverski kulturi zelo pomembno. Naj je tako tudi pri nas\, sodelujmo z naravo…\nSrčno dobrodošli!\nTjaša\nKaj je zvok?\nZvok je eno najmočnejših orodij\, ki človeka sprosti in uskladi z naravnimi ritmi Življenja. Bolj\, ko je človek v sozvočju z naravo\, globlje doživlja Življenje in ko se čisto preda\, postane Življenje Samo. Kristali predstavljajo čistost in visoko zavest matere Zemlje\, njihove frekvence nas podpirajo pri transformaciji\, nas negujejo in višajo našo zavest. Dovoljujejo nam\, da naredimo korak naprej v našem zavedanju samega sebe in prinašamo nove informacije na Zemljo. \nUčinki\, ki lahko nastopijo po zvočni kopeli\n• prenehanje bolečin na fizičnem telesu (glavoboli\, bolečine po poškodbah\, bolečine\nv križu\, bolečine vratu in ramenskega obroča\, hrbtenice…)\n• izboljšani notranji procesi fizičnega telesa (boljša cirkulacija telesnih tekočin…)\n• notranji mir\n• pomladitev telesa\n• sprostitev čustev in olajšanje (jeza\, žalost\, depresija\, strah…)\n• boljša koncentracija in fokus\n• sprostitev svojih misli (postanemo bolj prisotni v tu in zdaj ter opazovalec svojih\nmisli)\n• izboljšana komunikacija\n• odpiranje intuiciji\, senzitivnosti\, jasno-vidnosti/-slišnosti/- čutnosti\n• globoko doživetje (spoznavanje duše in prepoznavanje svojih potencialov\,\ndoživljanje globoke ljubezni in radosti) \nO izvajalki: \nTJAŠA CEPUŠ\, univ.dipl.ekon.\, zvočna alkimistka\, aurasound terapevtka\, masažni terapevt in spinal flow praktikantka. Z glasbo se ukvarja že vse življenje\, z zdravilnim zvokom gongov in ostalih instrumentov pa že 18 let. Izvedla je že nekaj individualnih izobraževanj za zvočne terapevte – praktike. Učila se je od priznanih zvočnih mojstrov\, vrhunskih glasbenikov\, s katerimi je izvajala različne koncerte in predstave. Zvočno so jo podprla tudi morska bitja – kiti\, delfini – s katerimi je plavala na Havajih in Mo’orei in jih občudovala v Mehiki in Indoneziji. Njen doprinos je dati ljudem globoko zaznavo vibracij\, ki kreirajo življenje v svobodni in ozaveščeni realnosti. \nVeč na: www.zvocni-spa.si. \nPRIJAVE DO 20.12. na tjasa.cepus@gmail.com . \nPRISPEVEK: 30EUR \nPREJMETE tudi PRAZNIČNO DARILCE. \nPlačilo preko TRR ob prijavi. \n\n\n  \n\n\n\n\n\n\n  \n    \n  \n  \n    \n  \n  \n    \n  \n  \n    \n  \n\n\n\n  S potrditvijo soglašam z uporabo mojih osebnih podatkov v skladu s politiko zasebnosti.\n\n\n\n  \nΔ
URL:https://zvocni-spa.si/dogodek/solsticijskikristalnizvocnispazalec/
LOCATION:Dvoran’ca Žalec
CATEGORIES:Zvočne kopeli
ATTACH;FMTTYPE=image/png:https://zvocni-spa.si/wp-content/uploads/2025/11/ZVOCNI-SPA-Solsticij-21.png
END:VEVENT
BEGIN:VEVENT
DTSTART;TZID=Europe/Paris:20251005T183000
DTEND;TZID=Europe/Paris:20251005T200000
DTSTAMP:20260424T174348
CREATED:20250926T165354Z
LAST-MODIFIED:20250926T165354Z
UID:9120-1759689000-1759694400@zvocni-spa.si
SUMMARY:ZVOČNI SPA Harmonija odnosov
DESCRIPTION:ZVOČNI SPA Harmonija odnosov\nTjaša Cepuš\nKDAJ? nedelja\, 5.10. ob 18.30 – 20.00\nKJE? Dvoran’ca Žalec \nVabim te na posebno zvočno doživetje\, kjer bomo skozi vibracije kristalnih posod nežno odpirali prostor za harmonijo v odnosih – najprej s seboj in nato z drugimi. Zvok nas bo podprl pri sprostitvi\, notranjem ravnovesju in jasnosti\, da bomo lahko gradili iskrene\, spoštljive in ljubeče povezave inn s tem PRAVO SKUPNOST. \nOb podpori zvoka bomo skupaj zaključili tisto\, kar v odnosih ne služi več\, in ustvarili prostor za nove\, sveže načine povezovanja. V tišini in melodiji zvoka se rojeva modrost srca\, iz katere raste resnična bližina. Tako v družinskih\, partnerskih kot tudi drugih odnosih. \nVeselim se\, da bomo skupaj negovali harmonijo – v sebi in med seboj – ter posadili semena za odnose\, ki temeljijo na spoštovanju\, sočutju in svetlobi. 🌱💫 \nSrčno dobrodošli! \nKaj je zvok?\nZvok je eno najmočnejših orodij\, ki človeka sprosti in uskladi z naravnimi ritmi Življenja. Bolj\, ko je človek v sozvočju z naravo\, globlje doživlja Življenje in ko se čisto preda\, postane Življenje Samo. Kristali predstavljajo čistost in visoko zavest matere Zemlje\, njihove frekvence nas podpirajo pri transformaciji\, nas negujejo in višajo našo zavest. Dovoljujejo nam\, da naredimo korak naprej v našem zavedanju samega sebe in prinašamo nove informacije na Zemljo. \nUčinki\, ki lahko nastopijo po zvočni kopeli\n• prenehanje bolečin na fizičnem telesu (glavoboli\, bolečine po poškodbah\, bolečine\nv križu\, bolečine vratu in ramenskega obroča\, hrbtenice…)\n• izboljšani notranji procesi fizičnega telesa (boljša cirkulacija telesnih tekočin…)\n• notranji mir\n• pomladitev telesa\n• sprostitev čustev in olajšanje (jeza\, žalost\, depresija\, strah…)\n• boljša koncentracija in fokus\n• sprostitev svojih misli (postanemo bolj prisotni v tu in zdaj ter opazovalec svojih\nmisli)\n• izboljšana komunikacija\n• odpiranje intuiciji\, senzitivnosti\, jasno-vidnosti/-slišnosti/- čutnosti\n• globoko doživetje (spoznavanje duše in prepoznavanje svojih potencialov\, \n*doživljanje globoke ljubezni in radosti ) \nO izvajalki:  \nTJAŠA CEPUŠ\, univ.dipl.ekon.\, zvočna alkimistka\, aurasound terapevtka\, masažni terapevt in spinal flow praktikantka.  Z glasbo se ukvarja že vse življenje\, z zdravilnim zvokom gongov in ostalih instrumentov pa že 18 let. Izvedla je že nekaj individualnih izobraževanj za zvočne terapevte – praktike. Učila se je od priznanih zvočnih mojstrov\, vrhunskih glasbenikov\, s katerimi je izvajala različne koncerte in predstave. Zvočno so jo podprla tudi morska bitja – kiti\, delfini – s katerimi je plavala na Havajih in Mo’orei in jih občudovala v Mehiki in Indoneziji. Njen doprinos je dati ljudem globoko zaznavo vibracij\, ki kreirajo življenje v svobodni in ozaveščeni realnosti. Več na: www.zvocni-spa.si/o-tjasi \nPRIJAVE DO 4.10. na info@zvocni-spa.si .  \nPRISPEVEK:\n– 30EUR \nPlačilo preko TRR ob prijavi. \n\n\n  \n\n\n\n\n\n\n  \n    \n  \n  \n    \n  \n  \n    \n  \n  \n    \n  \n\n\n\n  S potrditvijo soglašam z uporabo mojih osebnih podatkov v skladu s politiko zasebnosti.\n\n\n\n  \nΔ
URL:https://zvocni-spa.si/dogodek/harmonijaodnosov/
LOCATION:Dvoran’ca Žalec
CATEGORIES:Zvočne kopeli
ATTACH;FMTTYPE=image/png:https://zvocni-spa.si/wp-content/uploads/2025/09/harmonijaodnosovzvocnispa-1.png
END:VEVENT
BEGIN:VEVENT
DTSTART;TZID=Europe/Paris:20250914T183000
DTEND;TZID=Europe/Paris:20250914T200000
DTSTAMP:20260424T174348
CREATED:20250829T074150Z
LAST-MODIFIED:20250911T082206Z
UID:9056-1757874600-1757880000@zvocni-spa.si
SUMMARY:ZVOČNI SPA Zaključevanje in pridih novemu
DESCRIPTION:ZVOČNI SPA Zaključevanje starega in pridih novemu\nTjaša Cepuš\nKDAJ? nedelja\, 14.9. ob 18.30 – 20.00\nKJE? Dvoran’ca Žalec \nVabim te na posebno zvočno doživetje\, kjer bomo skozi vibracije kristalnih posod nežno zaključili tisto\, kar je svojo pot že opravilo\, in ustvarili prostor za novo\, sveže in lahkotno. Zvok nas bo vodil v sprostitev\, notranji mir in jasnost – da lažje spustimo staro in odpremo vrata prihodnjemu. \nTokrat nas bo simbolično spremljala bela sova 🦉 – modra čuvajka prehodov\, ki nas uči\, kako z zaupanjem zapremo en krog življenja in odpremo pogled v nove obzorja. Njena prisotnost nas spominja\, da se v tišini skriva modrost in da je konec vedno tudi začetek. \nVeselim se\, da bomo skupaj ob podpori zvoka sklenili en krog in hkrati posadili semena za nove začetke. 🌱💫 \nSrčno dobrodošli! \nKaj je zvok?\nZvok je eno najmočnejših orodij\, ki človeka sprosti in uskladi z naravnimi ritmi Življenja. Bolj\, ko je človek v sozvočju z naravo\, globlje doživlja Življenje in ko se čisto preda\, postane Življenje Samo. Kristali predstavljajo čistost in visoko zavest matere Zemlje\, njihove frekvence nas podpirajo pri transformaciji\, nas negujejo in višajo našo zavest. Dovoljujejo nam\, da naredimo korak naprej v našem zavedanju samega sebe in prinašamo nove informacije na Zemljo. \nUčinki\, ki lahko nastopijo po zvočni kopeli\n• prenehanje bolečin na fizičnem telesu (glavoboli\, bolečine po poškodbah\, bolečine\nv križu\, bolečine vratu in ramenskega obroča\, hrbtenice…)\n• izboljšani notranji procesi fizičnega telesa (boljša cirkulacija telesnih tekočin…)\n• notranji mir\n• pomladitev telesa\n• sprostitev čustev in olajšanje (jeza\, žalost\, depresija\, strah…)\n• boljša koncentracija in fokus\n• sprostitev svojih misli (postanemo bolj prisotni v tu in zdaj ter opazovalec svojih\nmisli)\n• izboljšana komunikacija\n• odpiranje intuiciji\, senzitivnosti\, jasno-vidnosti/-slišnosti/- čutnosti\n• globoko doživetje (spoznavanje duše in prepoznavanje svojih potencialov\, \n*doživljanje globoke ljubezni in radosti ) \nO izvajalki:  \nTJAŠA CEPUŠ\, univ.dipl.ekon.\, zvočna alkimistka\, aurasound terapevtka\, masažni terapevt in spinal flow praktikantka.  Z glasbo se ukvarja že vse življenje\, z zdravilnim zvokom gongov in ostalih instrumentov pa že 18 let. Izvedla je že nekaj individualnih izobraževanj za zvočne terapevte – praktike. Učila se je od priznanih zvočnih mojstrov\, vrhunskih glasbenikov\, s katerimi je izvajala različne koncerte in predstave. Zvočno so jo podprla tudi morska bitja – kiti\, delfini – s katerimi je plavala na Havajih in Mo’orei in jih občudovala v Mehiki in Indoneziji. Njen doprinos je dati ljudem globoko zaznavo vibracij\, ki kreirajo življenje v svobodni in ozaveščeni realnosti. Več na: www.zvocni-spa.si/o-tjasi \nPRIJAVE DO 13.9. na info@zvocni-spa.si .  \nPRISPEVEK:\n– 30EUR \nPlačilo preko TRR ob prijavi. \n\n\n  \n\n\n\n\n\n\n  \n    \n  \n  \n    \n  \n  \n    \n  \n  \n    \n  \n\n\n\n  S potrditvijo soglašam z uporabo mojih osebnih podatkov v skladu s politiko zasebnosti.\n\n\n\n  \nΔ
URL:https://zvocni-spa.si/dogodek/septemberzalec/
LOCATION:Dvoran’ca Žalec
CATEGORIES:Zvočne kopeli
ATTACH;FMTTYPE=image/png:https://zvocni-spa.si/wp-content/uploads/2025/08/ZVOCNI-SPAseptember-2.png
END:VEVENT
END:VCALENDAR