BEGIN:VCALENDAR
VERSION:2.0
PRODID:-//Zvočni Sound Spa - ECPv6.15.20//NONSGML v1.0//EN
CALSCALE:GREGORIAN
METHOD:PUBLISH
X-ORIGINAL-URL:https://zvocni-spa.si
X-WR-CALDESC:Dogodki za Zvočni Sound Spa
REFRESH-INTERVAL;VALUE=DURATION:PT1H
X-Robots-Tag:noindex
X-PUBLISHED-TTL:PT1H
BEGIN:VTIMEZONE
TZID:Europe/Paris
BEGIN:DAYLIGHT
TZOFFSETFROM:+0100
TZOFFSETTO:+0200
TZNAME:CEST
DTSTART:20240331T010000
END:DAYLIGHT
BEGIN:STANDARD
TZOFFSETFROM:+0200
TZOFFSETTO:+0100
TZNAME:CET
DTSTART:20241027T010000
END:STANDARD
BEGIN:DAYLIGHT
TZOFFSETFROM:+0100
TZOFFSETTO:+0200
TZNAME:CEST
DTSTART:20250330T010000
END:DAYLIGHT
BEGIN:STANDARD
TZOFFSETFROM:+0200
TZOFFSETTO:+0100
TZNAME:CET
DTSTART:20251026T010000
END:STANDARD
BEGIN:DAYLIGHT
TZOFFSETFROM:+0100
TZOFFSETTO:+0200
TZNAME:CEST
DTSTART:20260329T010000
END:DAYLIGHT
BEGIN:STANDARD
TZOFFSETFROM:+0200
TZOFFSETTO:+0100
TZNAME:CET
DTSTART:20261025T010000
END:STANDARD
END:VTIMEZONE
BEGIN:VEVENT
DTSTART;TZID=Europe/Paris:20250912T190000
DTEND;TZID=Europe/Paris:20250912T210000
DTSTAMP:20260425T001928
CREATED:20250829T075028Z
LAST-MODIFIED:20250910T115153Z
UID:9064-1757703600-1757710800@zvocni-spa.si
SUMMARY:Posebni dogodek na Obali! PORTAL ZVOKA 99
DESCRIPTION:OBVESTILO!\nDragi vsi zainteresirani za današnjo zvočno kopel v Luciji.\nZaradi napovedi dežja\, DOGODEK prestavljamo v notranje prostore in sicer v petek 12.9. ob 19h\nKopel pa dobiva nove razsežnosti\, dodatne podporne energije za nove začetke.\nVsi\, ki bi se želeli udeležiti\, vas vabiva\, da se prijavite na info@zvok-srca.si ali tjasa.cepus@gmail.com\n\n\nPetek 12.9. LUCIJA\n\n PORTAL ZVOKA 9:9 \nzvočna kopel z gongi in kristali\n Petek\, 12. 9. 2025 ob 19:00 LUCIJA (Obala)\n\nNa ta poseben dan dvojne devetke stopamo skozi zvočni portal\, ki nas vabi k zaključitvi starega in odpiranju novega.Število 9 je simbol modrosti\, izpustitve in dovršenosti. Ko se združi z morjem\, ki s svojimi valovi čisti in prinaša svežino\, ter s kamnom\, ki nas sidra in podpira\, nastane edinstven prostor notranje transformacije.\n\nZvočna kopel nas bo popeljala skozi valove gonga\, kristalnih posod\, bobnov in drugih instrumentov\, da se prepustimo vibracijam\, očistimo\, odpustimo in naredimo prostor za nove začetke.\n\n Tokratna namera: prehod skozi portal 9:9 – spuščanje starega in prebujanje novega.\n S seboj prinesite podlogo\, odejo in nekaj udobnega za ležanje.\nPrispevek: 40eur\nIgrava: Tjaša Cepuš (kristali) in Boštjan Sanič (gongi)\n\n Vabljeni\, da skupaj ustvarimo sveti prostor ob morju\, kjer se zvok\, kamen in valovi zlijejo v eno.\n\nPrijave na: tjasa.cepus@gmail.comdo 11.9.\n\n\n\n  \n\n\n\n\n\n\n  \n    \n  \n  \n    \n  \n  \n    \n  \n  \n    \n  \n\n\n\n  S potrditvijo soglašam z uporabo mojih osebnih podatkov v skladu s politiko zasebnosti.\n\n\n\n  \nΔ
URL:https://zvocni-spa.si/dogodek/portalzvoka99/
LOCATION:Forma Viva nad Lucijo
CATEGORIES:Zvočne kopeli
ATTACH;FMTTYPE=image/jpeg:https://zvocni-spa.si/wp-content/uploads/2025/08/portal99.jpg
END:VEVENT
BEGIN:VEVENT
DTSTART;TZID=Europe/Paris:20250928T090000
DTEND;TZID=Europe/Paris:20250928T190000
DTSTAMP:20260425T001928
CREATED:20250910T105116Z
LAST-MODIFIED:20250910T105200Z
UID:9093-1759050000-1759086000@zvocni-spa.si
SUMMARY:SPINAL FLOW & SOUL RESET - ENODNEVNA WELLBEING DELAVNICA
DESCRIPTION:Dragi\,\nVabimo vas na enodnevno\, negovalno in transformativno delavnico\, ki združuje Spinal Flow\, Human Design\, zvočne kopeli in podporno kulinarično izkušnjo. Delavnica je namenjena vsem\, ki želijo poglobiti stik s svojim telesom\, sprostiti napetosti\, odpreti srce in se ponovno povezati s svojo notranjo modrostjo.\n\n__________________________________________________\n KAJ JE SPINAL FLOW?Spinal Flow tehnika je ena izmed najbolj enostavnih\, učinkovitih in logičnih tehnik\, ki nas povežejo s svojim telesom in njegovo samozdravilno sposobnostjo.Tehnika Spinal Flow® je hiter in učinkovit način zdravljenja bolečin in telesnih neravnovesij. Zdravilni način ima svoje korenine v znanosti (kiropraktika) in anatomiji hrbtenice in živčnega sistema.\nSpinalni val gre skozi 7 vrat hrbtenice in sprošča bolečine\, blokade. Na hrbtenici je 33 vstopnih točk\, kjer se trda možganska ovojnica pripenja na našo križnico\, trtico in lobanjo\, kar omogoča živčnemu sistemu\, da se poveže s hrbtenično blokado in jo sprosti. Spinal flow spomni telo na prirojeno inteligneco in sposobnost samoozdravitve.\n Učinki Spinal Flow tretmaja:\n Pomirja živčni sistem\, lajša tesnobo in spodbuja sprostitev Izboljša delovanje imunskega sistema Zmanjša mišični spazem in togost\, lajša bolečine Izboljša dihanje in oksigenacijo telesa in možganov Poveča pretok hranil in izboljša prebavo Spodbuja regeneracijo tkiv in aktivira notranje samozdravilne procese Izboljša fokus\, mentalno jasnost in odpornost na stres\n__________________________________________________\n KAJ JE HUMAN DESIGN?Human Design je edinstven sistem\, ki združuje astrologijo\, I Ching\, Kabalo in sistem čaker ter ustvarja zemljevid naše individualnosti. Razkriva naše pravo bistvo\, prednosti in področja rasti. Razumevanje Human Designa nam daje vpogled v naš proces odločanja\, odnose in karierno pot\, ter nas usmerja k življenju v skladu z našim pristnim jazom. Spoštovanje edinstvenega dizajna nam omogoča\, da se pristno izražamo in osvobodimo družbenih pričakovanj.__________________________________________________\nPREDSTAVITEV VODIJ DELAVNICE:Tjaša CepušTjaša je univ. dipl. ekonomistka\, zvočna alkimistka\, aurasound terapevtka\, masažni terapevt in certificirana spinal flow praktikantka. Z glasbo in plesom se ukvarja že vse življenje\, z zdravilnim zvokom gongov\, kristalnih in drugih instrumentov pa že približno 18 let. Učila se je pri priznanih zvočnih mojstrih\, kot so Don Conreaux\, Jonathan Goldman in drugi\, ter sodelovala z vrhunskimi glasbeniki v Sloveniji in tujini. Tjaša čuti\, da umetnost odpira srca ljudi in jih povezuje v prijetno celoto. Njena zvočna praksa vključuje tudi izkušnje z morskimi bitji – kiti in delfini\, s katerimi je plavala na Havajih\, Mo’orei\, v Mehiki in Indoneziji. Na delavnici bo vodila zvočne seanse in Spinal Flow tretmaje.FB: Skupina Zvočne kopeli Zvočni SPAIG: @tjasacepusVeč: www.zvocni-spa.si\n Ana PeskarAna je predana sebi\, svobodna in drzna pri izbiri drugačnih poti v življenju. Ukvarja se s lifeflowom\, nevromehaniko\, Spinal Flowom in izvaja uspešne teambuildinge. Njena strast je podpirati ljudi\, da se povežejo s svojim telesom\, osvobodijo čustvenih in telesnih blokad ter zaživijo v polni prisotnosti in srčni moči. Ana bo vodila Spinal Flow tretmaje in aktivacije telesa\, ter prispevala k poglobljenemu razumevanju telesne inteligence.Več: www.anapeskar.com/o-meni\nTanja BukovecTanja je strokovnjakinja za Human Design\, ki nas vodi k boljšemu razumevanju našega pristnega jaza in notranje strukture. Njeno delo omogoča\, da spoznamo svoje prednosti\, področja rasti in se naučimo sprejemati odločitve\, ki so v skladu z našo notranjo modrostjo. Tanja bo vodila mini Human Design delavnice in podpirala integracijo spoznanj skozi celoten dan. Več: https://titaness.si/\nPetra FurlanPetra bo poskrbela za podporno vegansko kulinariko. Božansko kosilo\, prigrizke in smoothieje\, ki bodo telesu dali energijo\, podprli proces sproščanja in regeneracije\, ter dopolnili celostno izkušnjo delavnice.\n__________________________________________________\n Datum in ura: 28. september 2025\, 9:00 – 19:00 Kraj: Studio 52\, Koprska 52\, Ljubljana – VičMožnost brezplačnega parkiranja pred zgradbo\n CENA: 190 + DDV € early bird (do 15. septembra) 240 + DDV € polna cena po 15. septembru 220 + DDV € če pripeljete prijatelja/prijateljico (po 15. septembru)\n PRIJAVE? Prijaviš se na spodnjem obrazcu:https://form.123formbuilder.com/…/spinal-flow-soul-reset\nPetra: petrafurlan5@gmail.com\, 040 480 115\n__________________________________________________\n PROGRAM DELAVNICE (okvirno):\n• 9:00 – 10.30 Jutranja aktivacija in priklop na flow• 10:30 – 11.30 Prigrizek in smoothie + uvodni krog• 11:30 – 12:30 Spinal Flow tretma / Human Design mini delavnica*• 12:30 – 13:30 Spinal Flow tretma / Human Design mini delavnica*• 13:30 – 15:00 Vegansko kosilo • 15:00 – 16:00 Spinal flow heart opening tretma/ Human Design mini delavnica*• 16:00 – 17:00 Spinal flow heart opening tretma/ Human Design mini delavnica*• 17:00 – 18:00 Krog za sharing + integracija• 18:00 – 19:00 Zvočni SPA – globoka sprostitev s kristalnimi zvoki\n* polovica ekipe prejema spinal flow tretma druga polovica je na human design delavnici__________________________________________________\nDelavnica bo intenzivna\, poglobljena in celostna. Ustvarili bomo prostor\, kjer boste lahko spustili napetosti\, odpravili blokade\, okrepili telo\, čustva in duhovno ravnovesje. Idealno za vse\, ki želite osvoboditi telesne in čustvene vzorce\, poglobiti notranjo prisotnost in okrepiti moč srčnosti.\nVeselimo se skupnega raziskovanja teles\, lahkotnosti\, prisotnosti in stika.\n\n\n  \n\n\n\n\n\n\n  \n    \n  \n  \n    \n  \n  \n    \n  \n  \n    \n  \n\n\n\n  S potrditvijo soglašam z uporabo mojih osebnih podatkov v skladu s politiko zasebnosti.\n\n\n\n  \nΔ
URL:https://zvocni-spa.si/dogodek/spinalflowdelavnica/
LOCATION:višja vibracija ljubljana\, Ljubljana
CATEGORIES:Zvočne kopeli
ATTACH;FMTTYPE=image/jpeg:https://zvocni-spa.si/wp-content/uploads/2025/09/IMG_6414.jpeg
END:VEVENT
BEGIN:VEVENT
DTSTART;TZID=Europe/Paris:20251003T190000
DTEND;TZID=Europe/Paris:20251003T203000
DTSTAMP:20260425T001928
CREATED:20250926T170026Z
LAST-MODIFIED:20250926T170236Z
UID:9124-1759518000-1759523400@zvocni-spa.si
SUMMARY:KRISTALNA ZAVEST kitov in delfinov
DESCRIPTION:KRISTALNA ZAVEST KITOV IN DELFINOV\nVdih…izdih… Potapljam se v globine… ničesar več ne vidim\, a vse zaznam… sem veliko telo izven meja…Ocean je moj tempelj\, moj dom\, moje delovanje. Ne gradim\, kot gradite vi. Samo sem. Opazujem vas\, ko prihajate v naše domovanje in vas kot otroke negujem\, da ne bi potonili ali se preveč ustrašili. Ustvarjam polje\, kjer pojem pesmi. Pesmi\, ki niso slišane\, so pa zaznane s strani vseh bitij in dugih pol delovanja. Niso le druge dimenzije\, so popolnoma drugačna stanja zavesti\, ki jih še do sedaj niti mi nismo zaznali. Tudi mi se učimo\, učimo se o stanjih\, ki so nam še nedosegljiva\, a vam jih niti ne moremo opisati. Zaznamo in se predajamo in hkrati rastemo s planetom\, ki je mnogo drugačen\, kot si vi mislite. Odprti smo za sprejemanje frekvenc in kar lahko storimo\, tudi damo. S Tjašo delujemo že nekaj časa\, po malem ji predajamo nekaj znanj\, pa morda niti ne ve\, kaj vse je prejela. Ne rabi. Odprli smo polje\, da lahko to preda vam\, da tudi vi pridete bližje v našo zavest in sprejmete naše darove. Veseli bomo.\n\nVabim vas na KRISTALNO ZVOČNO KOPELZVOČNI SPA Kristalna zavest kitov in delfinovTjaša Cepuš\nKDAJ? petek\, 3.10. ob 19.00 – 20.30KJE? KS Lucija Portorož\n\nSkozi zvok kristalnih posod\, liro in glas bom vodila potovanje\, kjer se bomo dotaknili globine notranjih oceanov\, se potopili v dimenzije kitov in delfinov ter naužili njihovih zvokov.\nSrčno dobrodošli!\n\nKaj je zvok?Zvok je eno najmočnejših orodij\, ki človeka sprosti in uskladi z naravnimi ritmi Življenja. Bolj\, ko je človek v sozvočju z naravo\, globlje doživlja Življenje in ko se čisto preda\, postane Življenje Samo. Kristali predstavljajo čistost in visoko zavest matere Zemlje\, njihove frekvence nas podpirajo pri transformaciji\, nas negujejo in višajo našo zavest. Dovoljujejo nam\, da naredimo korak naprej v našem zavedanju samega sebe in prinašamo nove informacije na Zemljo.\nUčinki\, ki lahko nastopijo po zvočni kopeli• prenehanje bolečin na fizičnem telesu (glavoboli\, bolečine po poškodbah\, bolečinev križu\, bolečine vratu in ramenskega obroča\, hrbtenice…)• izboljšani notranji procesi fizičnega telesa (boljša cirkulacija telesnih tekočin…)• notranji mir• pomladitev telesa• sprostitev čustev in olajšanje (jeza\, žalost\, depresija\, strah…)• boljša koncentracija in fokus• sprostitev svojih misli (postanemo bolj prisotni v tu in zdaj ter opazovalec svojihmisli)• izboljšana komunikacija• odpiranje intuiciji\, senzitivnosti\, jasno-vidnosti/-slišnosti/- čutnosti• globoko doživetje (spoznavanje duše in prepoznavanje svojih potencialov\,\n*doživljanje globoke ljubezni in radosti )\n\nO izvajalki:\nTJAŠA CEPUŠ\, univ.dipl.ekon.\, zvočna alkimistka\, aurasound terapevtka\, masažni terapevt in spinal flow praktikantka. Z glasbo se ukvarja že vse življenje\, z zdravilnim zvokom gongov in ostalih instrumentov pa že 18 let. Izvedla je že nekaj individualnih izobraževanj za zvočne terapevte – praktike. Učila se je od priznanih zvočnih mojstrov\, vrhunskih glasbenikov\, s katerimi je izvajala različne koncerte in predstave. Zvočno so jo podprla tudi morska bitja – kiti\, delfini – s katerimi je plavala na Havajih in Mo’orei in jih občudovala v Mehiki in Indoneziji. Njen doprinos je dati ljudem globoko zaznavo vibracij\, ki kreirajo življenje v svobodni in ozaveščeni realnosti. Več na: www.zvocni-spa.si/\n\nPRIJAVE DO 2.10. na info@zvocni-spa.si .\nPRISPEVEK:– 30EUR\nPlačilo preko TRR ob prijavi\n\n\n\n\n\n  \n\n\n\n\n\n\n  \n    \n  \n  \n    \n  \n  \n    \n  \n  \n    \n  \n\n\n\n  S potrditvijo soglašam z uporabo mojih osebnih podatkov v skladu s politiko zasebnosti.\n\n\n\n  \nΔ
URL:https://zvocni-spa.si/dogodek/kristalna-zavest-kitov-in-delfinov/
LOCATION:KS Lucija Portorož
CATEGORIES:Zvočne kopeli
ATTACH;FMTTYPE=image/png:https://zvocni-spa.si/wp-content/uploads/2025/09/Kriastalnazavestkitovindelfinov.png
END:VEVENT
BEGIN:VEVENT
DTSTART;TZID=Europe/Paris:20251107T200000
DTEND;TZID=Europe/Paris:20251107T213000
DTSTAMP:20260425T001928
CREATED:20251028T184649Z
LAST-MODIFIED:20251028T190217Z
UID:9159-1762545600-1762551000@zvocni-spa.si
SUMMARY:Zvočna Kopel s Tjašo in Boštjanom
DESCRIPTION:Vabljeni na zvočni dogodek na OBALI – Koper\nZvok\, ki izhaja iz neskončnega vira…Spoštuj ta vir v Sebi…Delajmo skupaj…\nZVOČNA KOPEL s Tjašo in Boštjanoms kristalnimi instrumenti in gongi\n\nZvok je edinstvena kreacija. Takšna\, ki kreira materijo\, kreira planete\, kreira telesa in v telesih kreira harmonijo…Izhaja iz še višjega izvora\, tišine.Vsi\, brez izjem\, smo dovzetni za zvok. Naj ta zvok prinaša harmonijo\, vsega kar je. Predvsem našega Ustroja\, nas kot bitje in našega telesa. Naj nas obdaja naravni zvok 432Hz… oz zvok\, ki je v tem trenutku in v tem obdobju pravilno matematično zaporedje Zemljine naravne frekvence. Takrat se zares povežemo s Sabo. Čutimo. Smo.\n\nHvala vam\, da bomo to sokreirali\, ob pomoči kristalnih instrumentov in gongov.\n\nV krogu ob zvokih gongov\, kristalnih posod in intuitivnega vokala se bomo spomnili naše resnične narave.\n\nKJE: Shodana Studio KoperKDAJ: Petek\, 7.november od 20-21.30VODITA: Tjaša Cepuš in Boštjan Sanič\n\nS seboj prinesi:– podlogo za ležanje\, odejo\, blazino– steklenico vode– udobna oblačila– odprto srce in pripravljenost na preobrazbo\n\nPrijave so obvezne: tjasa.cepus@gmail.com\, info@zvok-srca.siPrispevek: 40Eur\n\nZvok – pravi pomen besede ZVOČNA KOPEL. Preprosto\, lahkotno\, ljubeče.\n\nSrčno\,Tjaša\, Boštjan\n\n\n  \n\n\n\n\n\n\n  \n    \n  \n  \n    \n  \n  \n    \n  \n  \n    \n  \n\n\n\n  S potrditvijo soglašam z uporabo mojih osebnih podatkov v skladu s politiko zasebnosti.\n\n\n\n  \nΔ
URL:https://zvocni-spa.si/dogodek/zvocnakopelstjasoinbostjanom/
LOCATION:koper\, Ferrarska 10\, Slovenia
CATEGORIES:Zvočne kopeli
ATTACH;FMTTYPE=image/jpeg:https://zvocni-spa.si/wp-content/uploads/2025/10/IMG_6908-1.jpeg
END:VEVENT
BEGIN:VEVENT
DTSTART;TZID=Europe/Paris:20251221T183000
DTEND;TZID=Europe/Paris:20251221T200000
DTSTAMP:20260425T001928
CREATED:20251118T160909Z
LAST-MODIFIED:20251201T201707Z
UID:9185-1766341800-1766347200@zvocni-spa.si
SUMMARY:Kristalni Zvočni SPA ZIMSKI SOLSTICIJ Žalec
DESCRIPTION:  \n \nSOLSTICIJSKI Kristalni ZVOČNI SPA  Žalec\nKDAJ? nedelja\, 21.12. ob 18.30 – 20.00\nKJE? Dvoran’ca Žalec\nKRISTALNA ZVOČNA KOPELKristalne posode • Kristalna lira • Zvok glasu • Sprostitev • Vaš namen\n\nSolsticij. Ponovno smo v njem… Da KONČAMO staro leto in odpremo NOVO. To je dan najdaljše noči\, največje globine in časa\, ko smo kot v hibernaciji z našimi mislimi… Ko se vgnezdimo v naše polje polne zavesti… in SMO…\nPortal\, ki prinaša odmik\, premik in novo akcijo.\nPraznovanje solsticija je bilo že v staroverski kulturi zelo pomembno. Naj je tako tudi pri nas\, sodelujmo z naravo…\nSrčno dobrodošli!\nTjaša\nKaj je zvok?\nZvok je eno najmočnejših orodij\, ki človeka sprosti in uskladi z naravnimi ritmi Življenja. Bolj\, ko je človek v sozvočju z naravo\, globlje doživlja Življenje in ko se čisto preda\, postane Življenje Samo. Kristali predstavljajo čistost in visoko zavest matere Zemlje\, njihove frekvence nas podpirajo pri transformaciji\, nas negujejo in višajo našo zavest. Dovoljujejo nam\, da naredimo korak naprej v našem zavedanju samega sebe in prinašamo nove informacije na Zemljo. \nUčinki\, ki lahko nastopijo po zvočni kopeli\n• prenehanje bolečin na fizičnem telesu (glavoboli\, bolečine po poškodbah\, bolečine\nv križu\, bolečine vratu in ramenskega obroča\, hrbtenice…)\n• izboljšani notranji procesi fizičnega telesa (boljša cirkulacija telesnih tekočin…)\n• notranji mir\n• pomladitev telesa\n• sprostitev čustev in olajšanje (jeza\, žalost\, depresija\, strah…)\n• boljša koncentracija in fokus\n• sprostitev svojih misli (postanemo bolj prisotni v tu in zdaj ter opazovalec svojih\nmisli)\n• izboljšana komunikacija\n• odpiranje intuiciji\, senzitivnosti\, jasno-vidnosti/-slišnosti/- čutnosti\n• globoko doživetje (spoznavanje duše in prepoznavanje svojih potencialov\,\ndoživljanje globoke ljubezni in radosti) \nO izvajalki: \nTJAŠA CEPUŠ\, univ.dipl.ekon.\, zvočna alkimistka\, aurasound terapevtka\, masažni terapevt in spinal flow praktikantka. Z glasbo se ukvarja že vse življenje\, z zdravilnim zvokom gongov in ostalih instrumentov pa že 18 let. Izvedla je že nekaj individualnih izobraževanj za zvočne terapevte – praktike. Učila se je od priznanih zvočnih mojstrov\, vrhunskih glasbenikov\, s katerimi je izvajala različne koncerte in predstave. Zvočno so jo podprla tudi morska bitja – kiti\, delfini – s katerimi je plavala na Havajih in Mo’orei in jih občudovala v Mehiki in Indoneziji. Njen doprinos je dati ljudem globoko zaznavo vibracij\, ki kreirajo življenje v svobodni in ozaveščeni realnosti. \nVeč na: www.zvocni-spa.si. \nPRIJAVE DO 20.12. na tjasa.cepus@gmail.com . \nPRISPEVEK: 30EUR \nPREJMETE tudi PRAZNIČNO DARILCE. \nPlačilo preko TRR ob prijavi. \n\n\n  \n\n\n\n\n\n\n  \n    \n  \n  \n    \n  \n  \n    \n  \n  \n    \n  \n\n\n\n  S potrditvijo soglašam z uporabo mojih osebnih podatkov v skladu s politiko zasebnosti.\n\n\n\n  \nΔ
URL:https://zvocni-spa.si/dogodek/solsticijskikristalnizvocnispazalec/
LOCATION:Dvoran’ca Žalec
CATEGORIES:Zvočne kopeli
ATTACH;FMTTYPE=image/png:https://zvocni-spa.si/wp-content/uploads/2025/11/ZVOCNI-SPA-Solsticij-21.png
END:VEVENT
END:VCALENDAR