BEGIN:VCALENDAR
VERSION:2.0
PRODID:-//Zvočni Sound Spa - ECPv6.15.20//NONSGML v1.0//EN
CALSCALE:GREGORIAN
METHOD:PUBLISH
X-ORIGINAL-URL:https://zvocni-spa.si
X-WR-CALDESC:Dogodki za Zvočni Sound Spa
REFRESH-INTERVAL;VALUE=DURATION:PT1H
X-Robots-Tag:noindex
X-PUBLISHED-TTL:PT1H
BEGIN:VTIMEZONE
TZID:Europe/Paris
BEGIN:DAYLIGHT
TZOFFSETFROM:+0100
TZOFFSETTO:+0200
TZNAME:CEST
DTSTART:20240331T010000
END:DAYLIGHT
BEGIN:STANDARD
TZOFFSETFROM:+0200
TZOFFSETTO:+0100
TZNAME:CET
DTSTART:20241027T010000
END:STANDARD
BEGIN:DAYLIGHT
TZOFFSETFROM:+0100
TZOFFSETTO:+0200
TZNAME:CEST
DTSTART:20250330T010000
END:DAYLIGHT
BEGIN:STANDARD
TZOFFSETFROM:+0200
TZOFFSETTO:+0100
TZNAME:CET
DTSTART:20251026T010000
END:STANDARD
BEGIN:DAYLIGHT
TZOFFSETFROM:+0100
TZOFFSETTO:+0200
TZNAME:CEST
DTSTART:20260329T010000
END:DAYLIGHT
BEGIN:STANDARD
TZOFFSETFROM:+0200
TZOFFSETTO:+0100
TZNAME:CET
DTSTART:20261025T010000
END:STANDARD
END:VTIMEZONE
BEGIN:VEVENT
DTSTART;TZID=Europe/Paris:20251107T200000
DTEND;TZID=Europe/Paris:20251107T213000
DTSTAMP:20260424T131948
CREATED:20251028T184649Z
LAST-MODIFIED:20251028T190217Z
UID:9159-1762545600-1762551000@zvocni-spa.si
SUMMARY:Zvočna Kopel s Tjašo in Boštjanom
DESCRIPTION:Vabljeni na zvočni dogodek na OBALI – Koper\nZvok\, ki izhaja iz neskončnega vira…Spoštuj ta vir v Sebi…Delajmo skupaj…\nZVOČNA KOPEL s Tjašo in Boštjanoms kristalnimi instrumenti in gongi\n\nZvok je edinstvena kreacija. Takšna\, ki kreira materijo\, kreira planete\, kreira telesa in v telesih kreira harmonijo…Izhaja iz še višjega izvora\, tišine.Vsi\, brez izjem\, smo dovzetni za zvok. Naj ta zvok prinaša harmonijo\, vsega kar je. Predvsem našega Ustroja\, nas kot bitje in našega telesa. Naj nas obdaja naravni zvok 432Hz… oz zvok\, ki je v tem trenutku in v tem obdobju pravilno matematično zaporedje Zemljine naravne frekvence. Takrat se zares povežemo s Sabo. Čutimo. Smo.\n\nHvala vam\, da bomo to sokreirali\, ob pomoči kristalnih instrumentov in gongov.\n\nV krogu ob zvokih gongov\, kristalnih posod in intuitivnega vokala se bomo spomnili naše resnične narave.\n\nKJE: Shodana Studio KoperKDAJ: Petek\, 7.november od 20-21.30VODITA: Tjaša Cepuš in Boštjan Sanič\n\nS seboj prinesi:– podlogo za ležanje\, odejo\, blazino– steklenico vode– udobna oblačila– odprto srce in pripravljenost na preobrazbo\n\nPrijave so obvezne: tjasa.cepus@gmail.com\, info@zvok-srca.siPrispevek: 40Eur\n\nZvok – pravi pomen besede ZVOČNA KOPEL. Preprosto\, lahkotno\, ljubeče.\n\nSrčno\,Tjaša\, Boštjan\n\n\n  \n\n\n\n\n\n\n  \n    \n  \n  \n    \n  \n  \n    \n  \n  \n    \n  \n\n\n\n  S potrditvijo soglašam z uporabo mojih osebnih podatkov v skladu s politiko zasebnosti.\n\n\n\n  \nΔ
URL:https://zvocni-spa.si/dogodek/zvocnakopelstjasoinbostjanom/
LOCATION:koper\, Ferrarska 10\, Slovenia
CATEGORIES:Zvočne kopeli
ATTACH;FMTTYPE=image/jpeg:https://zvocni-spa.si/wp-content/uploads/2025/10/IMG_6908-1.jpeg
END:VEVENT
END:VCALENDAR