BEGIN:VCALENDAR
VERSION:2.0
PRODID:-//Zvočni Sound Spa - ECPv6.15.20//NONSGML v1.0//EN
CALSCALE:GREGORIAN
METHOD:PUBLISH
X-ORIGINAL-URL:https://zvocni-spa.si
X-WR-CALDESC:Dogodki za Zvočni Sound Spa
REFRESH-INTERVAL;VALUE=DURATION:PT1H
X-Robots-Tag:noindex
X-PUBLISHED-TTL:PT1H
BEGIN:VTIMEZONE
TZID:Europe/Paris
BEGIN:DAYLIGHT
TZOFFSETFROM:+0100
TZOFFSETTO:+0200
TZNAME:CEST
DTSTART:20240331T010000
END:DAYLIGHT
BEGIN:STANDARD
TZOFFSETFROM:+0200
TZOFFSETTO:+0100
TZNAME:CET
DTSTART:20241027T010000
END:STANDARD
BEGIN:DAYLIGHT
TZOFFSETFROM:+0100
TZOFFSETTO:+0200
TZNAME:CEST
DTSTART:20250330T010000
END:DAYLIGHT
BEGIN:STANDARD
TZOFFSETFROM:+0200
TZOFFSETTO:+0100
TZNAME:CET
DTSTART:20251026T010000
END:STANDARD
BEGIN:DAYLIGHT
TZOFFSETFROM:+0100
TZOFFSETTO:+0200
TZNAME:CEST
DTSTART:20260329T010000
END:DAYLIGHT
BEGIN:STANDARD
TZOFFSETFROM:+0200
TZOFFSETTO:+0100
TZNAME:CET
DTSTART:20261025T010000
END:STANDARD
END:VTIMEZONE
BEGIN:VEVENT
DTSTART;TZID=Europe/Paris:20251206T090000
DTEND;TZID=Europe/Paris:20251206T100000
DTSTAMP:20260424T173902
CREATED:20251119T182637Z
LAST-MODIFIED:20251119T205428Z
UID:9188-1765011600-1765015200@zvocni-spa.si
SUMMARY:URA ZASE: dih in pretočnost s SPINAL FLOW
DESCRIPTION:URA ZASE: dih in pretočnost s Spinal Flow \nVabljeni na nežno\, a globoko izkustveno uro\, kjer bomo skozi dihanje\, prisotnost in dotik prebujali naravni tok energije v hrbtenici in preko tega v celotnem telesu.\nSpinal Flow metoda pomaga telesu\, da se sprosti\, poveže in začne samozdraviti – iz notranje tišine in pretočnosti.\n\nNa delavnici boste: spoznali\, kako deluje Spinal Flow in zakaj je tako učinkovit\, naredili preprosto vajo samozdravljenja\, in vsak bo prejel kratek individualni dotik\, da začuti pretok skozi hrbtenico.\n\nTo je čas\, da si dovoliš globoko VDIHNITI\, spustiti napetosti in začutiti\, kako te tvoje telo podpira.\n\nKJE?  Aluna center CeljeKDAJ?  SOBOTA\, 6.12. od 9.00-10.00  (MIKLAVŽ vam prinese sprostitev)PRISPEVEK: 25 EurPRIJAVE: spinalflowbytjasa@gmail.com\n\nDovoli\, da energija spet steče.\n Tjaša Cepuš \n\n*Spinal Flow praktik in ustvarjalka Zvočnega Sound SPA*\n  \n\n\n  \n\n\n\n\n\n\n  \n    \n  \n  \n    \n  \n  \n    \n  \n  \n    \n  \n\n\n\n  S potrditvijo soglašam z uporabo mojih osebnih podatkov v skladu s politiko zasebnosti.\n\n\n\n  \nΔ
URL:https://zvocni-spa.si/dogodek/urazasespinalflow/
LOCATION:aluna center celje\, Ljubljanska 10\, Celje
CATEGORIES:Zvočne kopeli
ATTACH;FMTTYPE=image/png:https://zvocni-spa.si/wp-content/uploads/2025/11/urazase.png
END:VEVENT
BEGIN:VEVENT
DTSTART;TZID=Europe/Paris:20251207T090000
DTEND;TZID=Europe/Paris:20251207T170000
DTSTAMP:20260424T173902
CREATED:20251119T183254Z
LAST-MODIFIED:20251119T184343Z
UID:9191-1765098000-1765126800@zvocni-spa.si
SUMMARY:DAN ZA SPINAL FLOW
DESCRIPTION:DAN ZA SPINAL FLOW\n\nDragi\,Vabimo vas na enodnevno\, negovalno in transformativno SPINAL FLOW delavnico. Delavnica je namenjena vsem\, ki želijo poglobiti stik s svojim telesom\, sprostiti napetosti\, odpreti srce in se ponovno povezati s svojo notranjo modrostjo.\n__________________________________________________\n KAJ JE SPINAL FLOW?\nSpinal Flow tehnika je ena izmed najbolj enostavnih\, učinkovitih in logičnih tehnik\, ki nas povežejo s svojim telesom in njegovo samozdravilno sposobnostjo.Tehnika Spinal Flow® je hiter in učinkovit način zdravljenja bolečin in telesnih neravnovesij. Zdravilni način ima svoje korenine v znanosti (kiropraktika) in anatomiji hrbtenice in živčnega sistema. \nSpinalni val gre skozi 7 vrat hrbtenice in sprošča bolečine\, blokade. Na hrbtenici je 33 vstopnih točk\, kjer se trda možganska ovojnica pripenja na našo križnico\, trtico in lobanjo\, kar omogoča živčnemu sistemu\, da se poveže s hrbtenično blokado in jo sprosti. Spinal flow spomni telo na prirojeno inteligneco in sposobnost samoozdravitve.\n\n Učinki Spinal Flow tretmaja:\n Pomirja živčni sistem\, lajša tesnobo in spodbuja sprostitev Izboljša delovanje imunskega sistema Zmanjša mišični spazem in togost\, lajša bolečine Izboljša dihanje in oksigenacijo telesa in možganov Poveča pretok hranil in izboljša prebavo Spodbuja regeneracijo tkiv in aktivira notranje samozdravilne procese Izboljša fokus\, mentalno jasnost in odpornost na stres__________________________________________________\nPREDSTAVITEV VODIJ DELAVNICE:Tjaša CepušTjaša je univ. dipl. ekonomistka\, zvočna alkimistka\, aurasound terapevtka\, masažni terapevt in certificirana spinal flow praktikantka. Z glasbo in plesom se ukvarja že vse življenje\, z zdravilnim zvokom gongov\, kristalnih in drugih instrumentov pa že približno 18 let. Učila se je pri priznanih zvočnih mojstrih\, kot so Don Conreaux\, Jonathan Goldman in drugi\, ter sodelovala z vrhunskimi glasbeniki v Sloveniji in tujini. Tjaša čuti\, da umetnost odpira srca ljudi in jih povezuje v prijetno celoto. Njena zvočna praksa vključuje tudi izkušnje z morskimi bitji – kiti in delfini\, s katerimi je plavala na Havajih\, Mo’orei\, v Mehiki in Indoneziji. Na delavnici bo vodila zvočne seanse in Spinal Flow tretmaje.FB: Skupina Zvočne kopeli Zvočni SPAIG: @tjasacepusVeč: www.spinalflowbytjasa.com\n\n Ana PeskarAna je predana sebi\, svobodna in drzna pri izbiri drugačnih poti v življenju. Ukvarja se s lifeflowom\, nevromehaniko\, Spinal Flowom in izvaja uspešne teambuildinge. Njena strast je podpirati ljudi\, da se povežejo s svojim telesom\, osvobodijo čustvenih in telesnih blokad ter zaživijo v polni prisotnosti in srčni moči. Ana bo vodila Spinal Flow tretmaje in aktivacije telesa\, ter prispevala k poglobljenemu razumevanju telesne inteligence.Več: www.anapeskar.com/o-meni\n\nPetra FurlanPetra bo poskrbela za podporno vegi kulinariko. Božansko kosilo\, prigrizke in smoothieje\, ki bodo telesu dali energijo\, podprli proces sproščanja in regeneracije\, ter dopolnili celostno izkušnjo delavnice.__________________________________________________\n Datum in ura: 7. december 2025\, 9:00 – 17:00 Kraj: Ljubljana\n CENA: enotna cena = 190 eur\n\n PRIJAVE? Prijaviš se na: spinalflowbytjasa@gmail.comZa več info pa lahko pokličeš na Tjaša 031 568 711__________________________________________________\nDelavnica bo intenzivna\, poglobljena in celostna. Ustvarili bomo prostor\, kjer boste lahko spustili napetosti\, odpravili blokade\, okrepili telo\, čustva in duhovno ravnovesje. Idealno za vse\, ki želite osvoboditi telesne in čustvene vzorce\, poglobiti notranjo prisotnost in okrepiti moč srčnosti.\nVeselimo se skupnega raziskovanja teles\, lahkotnosti\, prisotnosti in stika.\n\n\n\n  \n\n\n\n\n\n\n  \n    \n  \n  \n    \n  \n  \n    \n  \n  \n    \n  \n\n\n\n  S potrditvijo soglašam z uporabo mojih osebnih podatkov v skladu s politiko zasebnosti.\n\n\n\n  \nΔ
URL:https://zvocni-spa.si/dogodek/dan-za-spinal-flow/
CATEGORIES:Zvočne kopeli
ATTACH;FMTTYPE=image/jpeg:https://zvocni-spa.si/wp-content/uploads/2025/11/573620288_10164029520164497_4792294306156903347_n.jpg
END:VEVENT
BEGIN:VEVENT
DTSTART;TZID=Europe/Paris:20251214T183000
DTEND;TZID=Europe/Paris:20251214T200000
DTSTAMP:20260424T173902
CREATED:20251201T202228Z
LAST-MODIFIED:20251201T202228Z
UID:9205-1765737000-1765742400@zvocni-spa.si
SUMMARY:OBDARITEV Z ZVOKOM: Decembrsko praznovanje s Tjašo in Alljo
DESCRIPTION:OBDARITEV Z ZVOKOM\nDecembrsko praznovanje z Alljo in Tjašo\n\nDar.. Hvaležni sva za današnji dar\, za to\, da lahko svobodno Živimo. Tukaj\, na Zemlji.\n\nDecember je mesec\, ko midve praznujeva.\nIn letos sva začutili\, da želiva praznovati to neomajno Radost\, ki nas obkroža in obdaruje vsak dan in vsak trenutek tudi z Vami. Lahkotno je Življenje\, ko ga živimo lahkotno. Da smo le prisotni in se ga zavedamo.\n\nDogodek je namenjen vsakdanjemu praznovanju sebe ~ točno takšnih kot smo ~ in je vabilo\, da svoje telo obdarimo z zvokom polnim ljubezni in zdravja. S tem pozdravimo tudi naš najbolj praznični mesec\, december. Ta na široko odpira vrata v obdobje\, ko se dnevi krajšajo in noči daljšajo in je še kako pomembno\, da praznujemo mirno in ljubeče\, v skrbni pozornosti do telesa\, ki potrebuje več počitka in negovanja.\n\nPovezali se bova v polju naših skupnih namer\, najinih glasov in visokofrekvenčnih zdravilnih glasbil\, ki se bodo prelivala v široke razsežnosti zvoka\, glasbe in soustvarjanja.\n\nKDAJ? Nedelja\, 14.12. Od 18.30 – 20.00 (dobrodošli da ostanete še na presenečenju do 20.30)\nKJE? Višja vibracija Ljubljana\nVSTOP? 35-40Eur (v kolikor prideta dve osebi\, je cena na osebo nižja)\, če povabite še decembrske rojstnodnevnike – tisti imajo vstopnico 30Eur\nPRIJAVE? tjasa.cepus@gmail.com*do 12.12.\n\nKaj potrebujete?\nSebe\, svojo namero\, flaško vode \n\nZVOK\nKristalne posode • Kristalna lira • Himalajske posode • Gongi • Zvok glasu • Flavte • Sprostitev • Vaš namen\nZvok… izhaja iz višjega izvora – tišine. Zvok kreira. Materijo\, planete\, naša telesa\, najmanjše celice…\nZvok nas obdaja\, nosi inteligenco. Vsaka vibracija\, ki jo začutimo\, odpira vrata k Sebi – k spominu\, kdo smo\, naše resnične narave.\nZvok… Z njim se obdamo in v njem se OKOPAMO. Vse\, dokler ne pridemo do belega šuma\, ki predstavlja TIŠINO.\n\nTJAŠA CEPUŠ\, \nuniv.dipl.ekon.\, zvočna alkimistka\, aurasound terapevtka\, masažni terapevt in spinal flow praktikantka\nZ glasbo in plesom se ukvarja že vse življenje\, z zdravilnim zvokom gongov\, kristalnih in ostalih instrumentov pa pribl. 18 let. Učila se je od priznanih zvočnih mojstrov (Don Conreaux\, Jonathan Goldman\, Lysa Jean Farmer\, Nestor Kornblum in drugi) ter svetovno priznanih vrhunskih glasbenikov\, s katerimi je izvajala različne koncerte in predstave v Sloveniji in tujini. Čuti\, da je umetnost tista\, ki z lahkoto odpira srca ljudi in jih povezuje v prijetno celoto.\nIzvedla je že več lastnih individualnih izobraževanj za zvočne terapevte – praktike\, kjer odpira posameznikovo polje – bitje\, da se lahko v avtentičnosti in unikatnosti izrazi.\nZvočno so jo podprla tudi morska bitja – kiti\, delfini – s katerimi je plavala na Havajih in Mo’orei in jih občudovala v Mehiki in Indoneziji.\nPodprli so jo tudi Havaji in petje oli (spevov)\, s katerimi dodatno odpira energijsko zvočno polje.\nNjen doprinos je dati ljudem globoko zaznavo vibracij\, ki kreirajo življenje v svobodni in ozaveščeni realnosti.\nVeč na: www.zvocni-spa.si .\nFB: Skupina Zvočne kopeli Zvočni SPA\nIG: tjasacepus\n \nAllja Petric\nVokalistka · Zvočna umetnica · Mentorica glasu\nAllja Petric je vokalistka\, zvočna umetnica in mentorica glasu\, ki v svojem delu združuje umetnost petja\, terapevtski potencial zvoka in globoko povezanost med glasom\, telesom in naravo.\nNjena glasbena pot sega od klasičnih in jazzovskih začetkov do svetovne glasbe\, meditativnih zvočnih krajin in eksperimentalnih zvočnih pristopov. Diplomirala je iz jazzovskega petja in pedagogike na Privatni univerzi Gustava Mahlerja v Celovcu\, svoje znanje pa redno nadgrajuje z neformalnimi izobraževanji s področja zvočnih tretmajev (med drugim na Peter Hess® Akademiji v Zagrebu) ter somatskih vokalnih in telesnih praks.\nV središču njenega ustvarjanja je improvizacija\, ki ji omogoča najbolj iskreno in neposredno izražanje. Skozi svobodno raziskovanje zvoka in glasu ustvarja prostore\, kjer lahko intuitivno izrazi notranje pokrajine in vzpostavi stik s širšimi ritmi narave.\nOb koncertnem ustvarjanju že več kot desetletje vodi skupinske in individualne zvočne tretmaje ter masaže\, v zadnjih letih pa tudi vokalne ure in delavnice\, ki posameznike spodbujajo k svobodnemu izrazu ter k poglobljenemu stiku s seboj. Navdih za svoje delo črpa iz naravnih ciklov\, iz vsakdanjega življenja in intuitivnega sveta.\nwww.aljapetric.com\nFb:alljapetric\nIG: alljamusic \n\n\n  \n\n\n\n\n\n\n  \n    \n  \n  \n    \n  \n  \n    \n  \n  \n    \n  \n\n\n\n  S potrditvijo soglašam z uporabo mojih osebnih podatkov v skladu s politiko zasebnosti.\n\n\n\n  \nΔ
URL:https://zvocni-spa.si/dogodek/obdaritevzzvokom/
LOCATION:višja vibracija ljubljana\, Ljubljana
CATEGORIES:Zvočne kopeli
ATTACH;FMTTYPE=image/png:https://zvocni-spa.si/wp-content/uploads/2025/12/alljaintjasadecember.png
END:VEVENT
BEGIN:VEVENT
DTSTART;TZID=Europe/Paris:20251221T183000
DTEND;TZID=Europe/Paris:20251221T200000
DTSTAMP:20260424T173902
CREATED:20251118T160909Z
LAST-MODIFIED:20251201T201707Z
UID:9185-1766341800-1766347200@zvocni-spa.si
SUMMARY:Kristalni Zvočni SPA ZIMSKI SOLSTICIJ Žalec
DESCRIPTION:  \n \nSOLSTICIJSKI Kristalni ZVOČNI SPA  Žalec\nKDAJ? nedelja\, 21.12. ob 18.30 – 20.00\nKJE? Dvoran’ca Žalec\nKRISTALNA ZVOČNA KOPELKristalne posode • Kristalna lira • Zvok glasu • Sprostitev • Vaš namen\n\nSolsticij. Ponovno smo v njem… Da KONČAMO staro leto in odpremo NOVO. To je dan najdaljše noči\, največje globine in časa\, ko smo kot v hibernaciji z našimi mislimi… Ko se vgnezdimo v naše polje polne zavesti… in SMO…\nPortal\, ki prinaša odmik\, premik in novo akcijo.\nPraznovanje solsticija je bilo že v staroverski kulturi zelo pomembno. Naj je tako tudi pri nas\, sodelujmo z naravo…\nSrčno dobrodošli!\nTjaša\nKaj je zvok?\nZvok je eno najmočnejših orodij\, ki človeka sprosti in uskladi z naravnimi ritmi Življenja. Bolj\, ko je človek v sozvočju z naravo\, globlje doživlja Življenje in ko se čisto preda\, postane Življenje Samo. Kristali predstavljajo čistost in visoko zavest matere Zemlje\, njihove frekvence nas podpirajo pri transformaciji\, nas negujejo in višajo našo zavest. Dovoljujejo nam\, da naredimo korak naprej v našem zavedanju samega sebe in prinašamo nove informacije na Zemljo. \nUčinki\, ki lahko nastopijo po zvočni kopeli\n• prenehanje bolečin na fizičnem telesu (glavoboli\, bolečine po poškodbah\, bolečine\nv križu\, bolečine vratu in ramenskega obroča\, hrbtenice…)\n• izboljšani notranji procesi fizičnega telesa (boljša cirkulacija telesnih tekočin…)\n• notranji mir\n• pomladitev telesa\n• sprostitev čustev in olajšanje (jeza\, žalost\, depresija\, strah…)\n• boljša koncentracija in fokus\n• sprostitev svojih misli (postanemo bolj prisotni v tu in zdaj ter opazovalec svojih\nmisli)\n• izboljšana komunikacija\n• odpiranje intuiciji\, senzitivnosti\, jasno-vidnosti/-slišnosti/- čutnosti\n• globoko doživetje (spoznavanje duše in prepoznavanje svojih potencialov\,\ndoživljanje globoke ljubezni in radosti) \nO izvajalki: \nTJAŠA CEPUŠ\, univ.dipl.ekon.\, zvočna alkimistka\, aurasound terapevtka\, masažni terapevt in spinal flow praktikantka. Z glasbo se ukvarja že vse življenje\, z zdravilnim zvokom gongov in ostalih instrumentov pa že 18 let. Izvedla je že nekaj individualnih izobraževanj za zvočne terapevte – praktike. Učila se je od priznanih zvočnih mojstrov\, vrhunskih glasbenikov\, s katerimi je izvajala različne koncerte in predstave. Zvočno so jo podprla tudi morska bitja – kiti\, delfini – s katerimi je plavala na Havajih in Mo’orei in jih občudovala v Mehiki in Indoneziji. Njen doprinos je dati ljudem globoko zaznavo vibracij\, ki kreirajo življenje v svobodni in ozaveščeni realnosti. \nVeč na: www.zvocni-spa.si. \nPRIJAVE DO 20.12. na tjasa.cepus@gmail.com . \nPRISPEVEK: 30EUR \nPREJMETE tudi PRAZNIČNO DARILCE. \nPlačilo preko TRR ob prijavi. \n\n\n  \n\n\n\n\n\n\n  \n    \n  \n  \n    \n  \n  \n    \n  \n  \n    \n  \n\n\n\n  S potrditvijo soglašam z uporabo mojih osebnih podatkov v skladu s politiko zasebnosti.\n\n\n\n  \nΔ
URL:https://zvocni-spa.si/dogodek/solsticijskikristalnizvocnispazalec/
LOCATION:Dvoran’ca Žalec
CATEGORIES:Zvočne kopeli
ATTACH;FMTTYPE=image/png:https://zvocni-spa.si/wp-content/uploads/2025/11/ZVOCNI-SPA-Solsticij-21.png
END:VEVENT
BEGIN:VEVENT
DTSTART;TZID=Europe/Paris:20251226T090000
DTEND;TZID=Europe/Paris:20251231T090000
DTSTAMP:20260424T173902
CREATED:20251119T190044Z
LAST-MODIFIED:20251119T190146Z
UID:9198-1766739600-1767171600@zvocni-spa.si
SUMMARY:ČAS MED BOŽIČEM IN NOVIM LETOM - PAKET MEDITACIJ Z ZVOKOM
DESCRIPTION:  \n \nPAKET MEDITACIJ Z ZVOKOM\nKDAJ? 26.12. – 31.12.2025\nKJE? ONLINE – prejmete posnetke\n6-dnevni paket zvočnih meditacij – Vstop v notranjo tišino ✨\n\nPoslušajte vsak dan –  čas med božičem in novim letom \nV obdobju\, ko je svet poln hrupa\, pričakovanj in naglice\, te povabim v prostor\, ki ga vsi nosimo v sebi – prostor tišine\, umirjenosti in ponovnega stika z notranjim glasom. \nPripravila sem 6-dnevni paket meditacij z zvokom\, nežnih in globoko podpirajočih\, ki te bodo vsak dan popeljale bližje tebi.Vsak dan prejmeš nov MP3 posnetek\, namenjen eni sami stvari:da se vrneš domov – v svojo notranjo tišino. \n💛 Kaj vključuje paket?• 6 zvočnih meditacij (6 dni zapored)• Nežni zvoki\, ki sprostijo živčni sistem• Vodenje za stik z notranjim mirom• Podpora\, da zaključiš leto mehkejše\, jasnejše in bolj prizemljene• Meditacije lahko poslušaš kadarkoli – ostanejo tvoje za vedno \n💛 Komu je namenjeno?Vsem\, ki želite v prazničnih dneh:• zmanjšati stres\,• umiriti misli\,• občutiti več topline in bližine s seboj\,• ustvariti nov\, lahek začetek za prihajajoče leto. \nNaj bo to tvoj dar sebi — ali pa nežno\, globoko darilo za nekoga\, ki si zasluži trenutek miru. \n\nKaj je zvok?\nZvok je eno najmočnejših orodij\, ki človeka sprosti in uskladi z naravnimi ritmi Življenja. Bolj\, ko je človek v sozvočju z naravo\, globlje doživlja Življenje in ko se čisto preda\, postane Življenje Samo. Kristali predstavljajo čistost in visoko zavest matere Zemlje\, njihove frekvence nas podpirajo pri transformaciji\, nas negujejo in višajo našo zavest. Dovoljujejo nam\, da naredimo korak naprej v našem zavedanju samega sebe in prinašamo nove informacije na Zemljo. \nUčinki\, ki lahko nastopijo po zvočni kopeli\n• prenehanje bolečin na fizičnem telesu (glavoboli\, bolečine po poškodbah\, bolečine\nv križu\, bolečine vratu in ramenskega obroča\, hrbtenice…)\n• izboljšani notranji procesi fizičnega telesa (boljša cirkulacija telesnih tekočin…)\n• notranji mir\n• pomladitev telesa\n• sprostitev čustev in olajšanje (jeza\, žalost\, depresija\, strah…)\n• boljša koncentracija in fokus\n• sprostitev svojih misli (postanemo bolj prisotni v tu in zdaj ter opazovalec svojih\nmisli)\n• izboljšana komunikacija\n• odpiranje intuiciji\, senzitivnosti\, jasno-vidnosti/-slišnosti/- čutnosti\n• globoko doživetje (spoznavanje duše in prepoznavanje svojih potencialov\,\ndoživljanje globoke ljubezni in radosti) \nO izvajalki: \nTJAŠA CEPUŠ\, univ.dipl.ekon.\, zvočna alkimistka\, aurasound terapevtka\, masažni terapevt in spinal flow praktikantka. Z glasbo se ukvarja že vse življenje\, z zdravilnim zvokom gongov in ostalih instrumentov pa že 18 let. Izvedla je že nekaj individualnih izobraževanj za zvočne terapevte – praktike. Učila se je od priznanih zvočnih mojstrov\, vrhunskih glasbenikov\, s katerimi je izvajala različne koncerte in predstave. Zvočno so jo podprla tudi morska bitja – kiti\, delfini – s katerimi je plavala na Havajih in Mo’orei in jih občudovala v Mehiki in Indoneziji. Njen doprinos je dati ljudem globoko zaznavo vibracij\, ki kreirajo življenje v svobodni in ozaveščeni realnosti. \nVeč na: www.zvocni-spa.si. \nNAROČILO DO 24.12. na tjasa.cepus@gmail.com . \nPRISPEVEK: 55EUR \nPlačilo preko TRR ob prijavi. \n\n\n  \n\n\n\n\n\n\n  \n    \n  \n  \n    \n  \n  \n    \n  \n  \n    \n  \n\n\n\n  S potrditvijo soglašam z uporabo mojih osebnih podatkov v skladu s politiko zasebnosti.\n\n\n\n  \nΔ
URL:https://zvocni-spa.si/dogodek/cas-med-bozicem-in-novim-letom-paket-meditacij-z-zvokom/
CATEGORIES:Zvočne kopeli
ATTACH;FMTTYPE=image/png:https://zvocni-spa.si/wp-content/uploads/2025/11/paketmeditacijzzvokom.png
END:VEVENT
END:VCALENDAR