BEGIN:VCALENDAR
VERSION:2.0
PRODID:-//Zvočni Sound Spa - ECPv6.15.20//NONSGML v1.0//EN
CALSCALE:GREGORIAN
METHOD:PUBLISH
X-WR-CALNAME:Zvočni Sound Spa
X-ORIGINAL-URL:https://zvocni-spa.si
X-WR-CALDESC:Dogodki za Zvočni Sound Spa
REFRESH-INTERVAL;VALUE=DURATION:PT1H
X-Robots-Tag:noindex
X-PUBLISHED-TTL:PT1H
BEGIN:VTIMEZONE
TZID:Europe/Paris
BEGIN:DAYLIGHT
TZOFFSETFROM:+0100
TZOFFSETTO:+0200
TZNAME:CEST
DTSTART:20240331T010000
END:DAYLIGHT
BEGIN:STANDARD
TZOFFSETFROM:+0200
TZOFFSETTO:+0100
TZNAME:CET
DTSTART:20241027T010000
END:STANDARD
BEGIN:DAYLIGHT
TZOFFSETFROM:+0100
TZOFFSETTO:+0200
TZNAME:CEST
DTSTART:20250330T010000
END:DAYLIGHT
BEGIN:STANDARD
TZOFFSETFROM:+0200
TZOFFSETTO:+0100
TZNAME:CET
DTSTART:20251026T010000
END:STANDARD
BEGIN:DAYLIGHT
TZOFFSETFROM:+0100
TZOFFSETTO:+0200
TZNAME:CEST
DTSTART:20260329T010000
END:DAYLIGHT
BEGIN:STANDARD
TZOFFSETFROM:+0200
TZOFFSETTO:+0100
TZNAME:CET
DTSTART:20261025T010000
END:STANDARD
END:VTIMEZONE
BEGIN:VEVENT
DTSTART;TZID=Europe/Paris:20251019T183000
DTEND;TZID=Europe/Paris:20251019T200000
DTSTAMP:20260424T221714
CREATED:20250926T171624Z
LAST-MODIFIED:20250926T171624Z
UID:9129-1760898600-1760904000@zvocni-spa.si
SUMMARY:KRISTALNI ZVOČNI SPA 'Kaj vse je še možno?'
DESCRIPTION:KRISTALNI ZVOČNI SPA ‘Kaj vse je še možno?’\nTjaša Cepuš\nKDAJ? nedelja\, 19.10. ob 18.30 – 20.00\nKJE? Višja vibracija Ljubljana \nKaj vse je še možno? ✨Kristalna zvočna kopel nas vabi\, da stopimo onkraj znanega in dovolimo življenju\, da nas preseneti. Zvok kristalnih posod nas popelje v globoko sprostitev\, kjer se raztapljajo omejitve in odpira prostor za nova doživetja\, ideje in poti. \nPodajamo se v novo obdobje – in to obdobje je lahko popolnoma drugačno\, kot si ga predstavljamo zdaj. Ni nam treba sprejeti dolgočasja ali ujetosti v stare vzorce. Lahko izberemo lahkotnost\, radovednost in odprtost za vse\, kar prihaja. \nZvok nas spomni\, da prihodnost ni zapisana – ustvarja se v vsakem trenutku. In prav mi smo tisti\, ki jo s svojim srcem in zavestjo soustvarjamo. 💫🌱 \nSrčno dobrodošli! \nKaj je zvok?\nZvok je eno najmočnejših orodij\, ki človeka sprosti in uskladi z naravnimi ritmi Življenja. Bolj\, ko je človek v sozvočju z naravo\, globlje doživlja Življenje in ko se čisto preda\, postane Življenje Samo. Kristali predstavljajo čistost in visoko zavest matere Zemlje\, njihove frekvence nas podpirajo pri transformaciji\, nas negujejo in višajo našo zavest. Dovoljujejo nam\, da naredimo korak naprej v našem zavedanju samega sebe in prinašamo nove informacije na Zemljo. \nUčinki\, ki lahko nastopijo po zvočni kopeli\n• prenehanje bolečin na fizičnem telesu (glavoboli\, bolečine po poškodbah\, bolečine\nv križu\, bolečine vratu in ramenskega obroča\, hrbtenice…)\n• izboljšani notranji procesi fizičnega telesa (boljša cirkulacija telesnih tekočin…)\n• notranji mir\n• pomladitev telesa\n• sprostitev čustev in olajšanje (jeza\, žalost\, depresija\, strah…)\n• boljša koncentracija in fokus\n• sprostitev svojih misli (postanemo bolj prisotni v tu in zdaj ter opazovalec svojih\nmisli)\n• izboljšana komunikacija\n• odpiranje intuiciji\, senzitivnosti\, jasno-vidnosti/-slišnosti/- čutnosti\n• globoko doživetje (spoznavanje duše in prepoznavanje svojih potencialov\, \n*doživljanje globoke ljubezni in radosti ) \nO izvajalki:  \nTJAŠA CEPUŠ\, univ.dipl.ekon.\, zvočna alkimistka\, aurasound terapevtka\, masažni terapevt in spinal flow praktikantka.  Z glasbo se ukvarja že vse življenje\, z zdravilnim zvokom gongov in ostalih instrumentov pa že 18 let. Izvedla je že nekaj individualnih izobraževanj za zvočne terapevte – praktike. Učila se je od priznanih zvočnih mojstrov\, vrhunskih glasbenikov\, s katerimi je izvajala različne koncerte in predstave. Zvočno so jo podprla tudi morska bitja – kiti\, delfini – s katerimi je plavala na Havajih in Mo’orei in jih občudovala v Mehiki in Indoneziji. Njen doprinos je dati ljudem globoko zaznavo vibracij\, ki kreirajo življenje v svobodni in ozaveščeni realnosti. Več na: www.zvocni-spa.si/o-tjasi \nPRIJAVE DO 17.10. na info@zvocni-spa.si .  \nPRISPEVEK:\n– 30EUR \nPlačilo preko TRR ob prijavi. \n\n\n  \n\n\n\n\n\n\n  \n    \n  \n  \n    \n  \n  \n    \n  \n  \n    \n  \n\n\n\n  S potrditvijo soglašam z uporabo mojih osebnih podatkov v skladu s politiko zasebnosti.\n\n\n\n  \nΔ
URL:https://zvocni-spa.si/dogodek/kajvsejesemozno/
LOCATION:višja vibracija ljubljana\, Ljubljana
CATEGORIES:Zvočne kopeli
ATTACH;FMTTYPE=image/png:https://zvocni-spa.si/wp-content/uploads/2025/08/ZVOCNI-SPA-Zvocna-aktivacija-Oceana-3-1.png
END:VEVENT
END:VCALENDAR